BEGIN:VCALENDAR
PRODID:-//eluceo/ical//2.0/EN
VERSION:2.0
CALSCALE:GREGORIAN
BEGIN:VEVENT
UID:89e2eb3cb565058a12b195b336aee3a7
DTSTAMP:20260421T160949Z
SUMMARY:Generation N – Anlaufstelle Unternehmensnachfolge in Hessen: Nach
 folge-Sprechtag 
DESCRIPTION:<ul><li>Wie bereite ich die Unternehmensübergabe optimal vor?<
 /li><li>Ist eine Nachfolge-Gründung eine Karriereoption für mich?</li><l
 i>Was ist bei der strategischen Umsetzung der Nachfolgeplanung zu beachten
 ?</li></ul><p>Die Anlaufstelle Unternehmensnachfolge in Hessen bietet sowo
 hl <strong>nachfolgesuchenden Unternehmen</strong> als auch an einer <stro
 ng>Betriebsübernahme Interessierten</strong> aus allen Branchen individue
 lle und kompetente Erstinformation rund um die Unternehmensübergabe.</p><
 p>Die vertrauliche Einzelberatung (Dauer ca. 60 Minuten) ist kostenfrei. T
 ermine sind telefonisch\, per Video-Call oder in Präsenz möglich.</p><p>
 <strong>Wann:</strong>&nbsp\; &nbsp\;Mittwoch\, 17.09.2025 von 10:00 bis 1
 7:00 Uhr<br><strong>Wo:</strong>&nbsp\; &nbsp\; &nbsp\; &nbsp\;Bei jumpp -
  Ihr Sprungbrett in die Selbständigkeit\, Hamburger Allee 96\, 60486 Fran
 kfurt<br><strong>Infos und kostenfreie Anmeldung</strong> bis 12.09.2025 u
 nter:&nbsp\;<a href="https://www.jumpp.de/sprechtag-unternehmensnachfolge"
 >www.jumpp.de/sprechtag-unternehmensnachfolge</a></p><p>Wir freuen uns auf
  Sie!</p>
DTSTART;VALUE=DATE:20250917
DTEND;VALUE=DATE:20250918
END:VEVENT
END:VCALENDAR
