BEGIN:VCALENDAR
PRODID:-//eluceo/ical//2.0/EN
VERSION:2.0
CALSCALE:GREGORIAN
BEGIN:VEVENT
UID:13393095216886c794d7e3411ef08127
DTSTAMP:20260422T125318Z
SUMMARY:Demokratie vor Ort erleben: Pädagogische Einrichtungen in Frankfur
 t und Offenbach laden zum lokalen Aktionstag der Demokratie
DESCRIPTION:<p><strong>Dieser Tag der Demokratie ist ein lokaler Aktionstag
 \, der Erziehungs-\, Bildungs- und Beratungseinrichtungen in Frankfurt und
  Offenbach zusammenbringen soll. Interessierte Familien und engagierte Men
 schen können Impuls-Veranstaltungen\, Diskussionen oder Workshops zur Dem
 okratiebildung besuchen.</strong></p><p>Am Vormittag gibt es Aktionen in m
 ehreren Stadtteilen. Am Nachmittag lädt die ASB Lehrerkooperative zur Hau
 ptveranstaltung in der Orangerie des Kinderschutzbundes im Günthersburgpa
 rk Frankfurt ein.&nbsp\;Eine Übersicht aller Aktionen bietet die <a href=
 "https://www.asb-bildung.de/tag-der-demokratie/einladung" target="_blank">
 Website der ASB Bildung GmbH</a>.</p><p>&nbsp\;</p><p>&nbsp\;</p>
DTSTART;VALUE=DATE:20260430
DTEND;VALUE=DATE:20260501
END:VEVENT
END:VCALENDAR
