BEGIN:VCALENDAR
PRODID:-//eluceo/ical//2.0/EN
VERSION:2.0
CALSCALE:GREGORIAN
BEGIN:VEVENT
UID:c0495d8098a5967589b26df31823b504
DTSTAMP:20260425T003517Z
SUMMARY:Online-Workshops für Nachwuchsjournalist*innen im April 2026: „A
 ntimuslimischem Rassismus im Journalismus entgegenwirken“
DESCRIPTION:<p>Jetzt anmelden zum <strong>Online-Workshop für </strong><a 
 href="https://www.bs-anne-frank.de/events/kalender/termindetail/antimuslim
 ischem-rassismus-im-journalismus-entgegenwirken-zweiteiliger-online-worksh
 op-fuer-nachwuchsjournalistinnen" target="_blank"><strong>Nachwuchsjournal
 ist*innen</strong></a> wie z.B. Volontär*innen\, Studierende und Berufsei
 nsteiger*innen am <strong>9. und 14. April 2026</strong>. &nbsp\;<br>&nbsp
 \;<br>Der <strong>zweiteilige</strong> Online-Workshop ist <strong>kostenf
 rei</strong>.&nbsp\;&nbsp\;<br>Die Teilnahme an <strong>beiden</strong> Te
 rminen ist erforderlich.</p><p>Uhrzeit: jeweils 15:00 bis 18:00 Uhr &nbsp\
 ;<br>Ort: digital\, via Zoom &nbsp\;<br>&nbsp\;<br><strong>Wie kann ich mi
 ch anmelden?&nbsp\;</strong><br>Zum <a href="https://anmeldung.bs-anne-fra
 nk.de/events/797c8ed3-891c-440d-a993-03cdd2bf458f?signature=91c65361e01f42
 3f248a7b5e5524030c94d10c7cd221611a5ff6e898cd71cb30" target="_blank">Anmeld
 eformular für Nachwuchsjournalist*innen</a>&nbsp\;<br><br>Nach der Anmeld
 ung erhalten Sie eine Bestätigungsmail. Die Zugangsdaten zum Zoom-Meeting
  werden ihnen einige Tage vor dem Workshop zugesendet.&nbsp\;<br><br><stro
 ng>Workshops zur Stärkung einer differenzierten Berichterstattung&nbsp\;&
 nbsp\;&nbsp\; </strong>&nbsp\;<br>Die Mehrheit der Muslim*innen oder musli
 misch gelesenen Menschen in Deutschland ist von Diskriminierung und Anfein
 dungen betroffen. Dabei spielt die mediale Berichterstattung eine große R
 olle\, die häufig gesellschaftliche Probleme auf Minderheiten projiziert 
 und damit Anknüpfungspunkte für rassistische Narrative schaffen kann.&nb
 sp\; &nbsp\;<br><br>Gegenstand der Workshops sind daher die folgenden Inha
 lte:&nbsp\;</p><ul><li>Einführung in das Thema antimuslimischer Rassismus
  (Geschichte und Gegenwart)&nbsp\; &nbsp\;</li><li>Wie prägen mediale Dar
 stellungen gesellschaftliche Wahrnehmungen?</li><li>Rassismuskritische Per
 spektiven in der journalistischen Praxis&nbsp\; &nbsp\;</li><li>Reflexion 
 eigener Arbeitsweisen und Sprache&nbsp\;</li></ul><p><a href="https://www.
 bs-anne-frank.de/projekte/projekte/zwischen-den-zeilen" target="_blank">Me
 hr erfahren</a>&nbsp\;<br><br>Die Workshops werden im Rahmen des Projekts 
 <a href="https://www.bs-anne-frank.de/projekte/projekte/zwischen-den-zeile
 n" target="_blank">„Zwischen den Zeilen – Antimuslimischer Rassismus i
 m Journalismus“ </a>angeboten. Das Projekt wird durch das Bundesminister
 ium des Inneren im Rahmen der Deutschen Islamkonferenz gefördert.&nbsp\; 
 &nbsp\;</p><p>&nbsp\;</p>
DTSTART;VALUE=DATE:20260409
DTEND;VALUE=DATE:20260410
END:VEVENT
END:VCALENDAR
