BEGIN:VCALENDAR
PRODID:-//eluceo/ical//2.0/EN
VERSION:2.0
CALSCALE:GREGORIAN
BEGIN:VEVENT
UID:21d8216dab33d95dd6819bbd84cdeaa3
DTSTAMP:20260425T002710Z
SUMMARY:Workshop: Thema Alltagsrassismus und Menschenwürde für Kinder und
  Jugendliche 
DESCRIPTION:<p><strong>Im Rahmen der Internationalen Wochen gegen Rassismus
  2026 veranstaltet Kinder im Zentrum Gallus e.V. einen Workshop zu Alltags
 rassismus und zur Menschenwürde für Kinder und Jugendliche.&nbsp\;</stro
 ng>&nbsp\;</p><p>Der Workshop wird von Frank Rodrigue Ngami geleitet. Die 
 Veranstaltung ist Teil eines umfangreichen Programms\, welches Austauschm
 öglichkeiten zum Thema Alltagsrassismus und Menschenwürde bietet und ric
 htet sich an diverse Altersgruppen.&nbsp\;</p><p>17.03.2026 14-16 Uhr in d
 er ESB der Ackermannschule\, Ackermannstraße 35-37\, 60326 Frankfurt</p><
 p>23.03.2026 17-19 Uhr im Eltern-Kind-Treff im Mehrgenerationenhaus Idstei
 ner Str. 91\, 60326 Frankfurt<br>&nbsp\;</p><p>Die <strong>Anmeldung</stro
 ng> zu den Veranstaltungen erfolgt per E-Mail an: <a href="mailto:hanane.k
 arkour@kiz-gallus.org">hanane.karkour@kiz-gallus.org</a> oder WhatsApp: +4
 9 155 63 72 47 87</p><p><strong>Alle Infos und Termine gibt's im Flyer zum
  Download.&nbsp\;</strong></p><p>&nbsp\;</p><p>Die <a href="https://stiftu
 ng-gegen-rassismus.de/aktionswochen/internationale-wochen-gegen-rassismus"
  target="_blank">Internationalen Wochen gegen Rassismus 2026</a> finden vo
 m 16. bis zum 29. März statt und stehen unter dem Motto "100% Menschenwü
 rde. Zusammen gegen Rassismus und Rechtsextremismus".&nbsp\;</p>
DTSTART;VALUE=DATE:20260323
DTEND;VALUE=DATE:20260324
END:VEVENT
END:VCALENDAR
