BEGIN:VCALENDAR
PRODID:-//eluceo/ical//2.0/EN
VERSION:2.0
CALSCALE:GREGORIAN
BEGIN:VEVENT
UID:deb9a6a3030a1125d329b07214aeefa7
DTSTAMP:20260420T081831Z
SUMMARY:Sieh an\, sieh an - Abschluss Stadtteil-Labor Höchst der "Bildungs
 kommune Frankfurt"
DESCRIPTION:<p>Das Stadtteil-Labor der Bildungskommune Frankfurt war ein Ja
 hr lang in Höchst aktiv und kommt nun zum Abschluss. Unter dem Titel „S
 ieh an\, sieh an“ präsentieren wir die Ergebnisse im Stadtteil und zeig
 en\, welche Erkenntnisse zu Bildung vor Ort entstanden sind.<br>&nbsp\;</p
 ><p><strong>Was erwartet Sie?</strong></p><ul><li>Ein begehbarer Ausstellu
 ngsrundgang („Gallery Walk“)\, der den Prozess der Stadtteil-Labore vo
 n den ersten Gesprächen bis zu den entwickelten Ideen nachvollziehbar mac
 ht</li><li>Gespräche mit Beteiligten über Erfahrungen\, Herausforderunge
 n und gute Beispiele</li><li>Offene Stationen für Ihre Rückmeldungen und
  die Frage\, wie es mit den Ergebnissen im Stadtteil und in Frankfurt weit
 ergeht</li><li>Austausch und Vernetzung mit engagierten Menschen aus dem S
 tadtteil</li></ul><p>&nbsp\;</p><p>Die Veranstaltungen stehen allen Intere
 ssierten ohne Anmeldung offen und ein Ein- und Ausstieg ist während der V
 eranstaltung jederzeit möglich. Kommen Sie einfach vorbei!</p>
DTSTART;VALUE=DATE:20260513
DTEND;VALUE=DATE:20260514
END:VEVENT
END:VCALENDAR
