BEGIN:VCALENDAR
PRODID:-//eluceo/ical//2.0/EN
VERSION:2.0
CALSCALE:GREGORIAN
BEGIN:VEVENT
UID:052a95ad7225b974ea20247d065845e3
DTSTAMP:20260422T075423Z
SUMMARY:Offener Babytreff für Regenbogenfamilien
DESCRIPTION:<p><strong>Beim Babytreff sind alle queeren Eltern und Bezugspe
 rsonen mit Kindern zwischen 0 und 12 Monaten willkommen. Hier könnt ihr e
 uch in entspannter Atmosphäre über aktuell anstehende Themen austauschen
 \, neue Kontakte mit anderen queeren Familien knüpfen und eure Kinder auf
  Krabbelmatten beim Spielen beobachten.&nbsp\;</strong></p><p>Es gibt Kaff
 ee\, Wasser und Kekse und eine Küche\, in der ihr Babynahrung zubereiten 
 könnt. Wir sind ab 10 Uhr für euch da\, aber selbstverständlich könnt 
 ihr jederzeit dazu stoßen. Wir freuen uns auf euch – kommt vorbei und g
 enießt die gemeinsame Zeit!</p><p>Der Treff findet einmal monatlich jewei
 ls freitags von 10 bis 11:30 Uhr statt. Kommende Termine sind der 12.06. u
 nd 10.07.</p>
DTSTART;VALUE=DATE:20260612
DTEND;VALUE=DATE:20260613
END:VEVENT
END:VCALENDAR
