BEGIN:VCALENDAR
PRODID:-//eluceo/ical//2.0/EN
VERSION:2.0
CALSCALE:GREGORIAN
BEGIN:VEVENT
UID:aa0ecd50f408f93795374d4449860df4
DTSTAMP:20260425T130543Z
SUMMARY:LSBTIQ+ in der Schule – Kommt zum Austausch: Situation von tin* P
 ersonen in der Schule
DESCRIPTION:<p><strong>Für alle\, die eine queere AG gründen oder es bere
 its getan haben und sich austauschen möchten: Bei unserer Inforeihe treff
 t ihr auf Gleichgesinnte und bekommt Ideen für den Alltag an der Schule.<
 /strong>&nbsp\;</p><p>Thema diesmal: Die Situation von trans*\, intergesch
 lechtlichen und nicht-binären (tin*) Personen in der Schule. Tiam Breiden
 ich\, GEW-Vorstand im Bereich Frauen-\, Gleichstellungs- und Geschlechterp
 olitik\, informiert unter anderem über Vorgaben zum Gendern an Schulen\, 
 fehlende Sensibilisierung im Kollegium und unzureichende Schulmaterialien.
  Außerdem geht es um den respektvollen Umgang mit Namen und Pronomen sowi
 e das Fehlen sicherer Räume für tin* Schüler*innen.&nbsp\;</p><p>Eingel
 aden sind: Lehrkräfte\, Schüler*innen und Schulsozialarbeitende</p><p>Ih
 r könnt Fragen stellen\, euch austauschen und gegenseitig unterstützen. 
 Gemeinsam wollen wir sichtbar machen\, wo Veränderungen nötig sind – u
 nd Schulen zu einem sicheren Ort für alle machen.</p><p><strong>Bitte mel
 det euch per-E-Mail an: </strong><a href="mailto:amka.lsbtiq@stadt-frankfu
 rt.de" target="_blank"><strong>amka.lsbtiq@stadt-frankfurt.de</strong></a>
 </p><p>Eine Veranstaltung der <a href="https://amka.de/lsbtiq" target="_bl
 ank" title="Externer Link zu Website (neuer Tab)">Koordinierungsstelle fü
 r LSBTIQ</a> im Amt für multikulturelle Angelegenheiten der Stadt Frankfu
 rt am Main</p>
DTSTART;VALUE=DATE:20260610
DTEND;VALUE=DATE:20260611
END:VEVENT
END:VCALENDAR
