BEGIN:VCALENDAR
PRODID:-//eluceo/ical//2.0/EN
VERSION:2.0
CALSCALE:GREGORIAN
BEGIN:VEVENT
UID:5670e42df47b13131c786c86e6a6774f
DTSTAMP:20260425T171414Z
SUMMARY:Sonntags-Brunch für Regenbogenfamilien
DESCRIPTION:<p><strong>In gemütlicher Atmosphäre gibt der kostenlose Brun
 ch Regenbogenfamilien Gelegenheit\, sich kennenzulernen und sich auszutaus
 chen über bunt gemischte Themen.</strong><br><br>Zu dem Brunch bringen al
 le einen kulinarischen Beitrag mit. Kaffee und Tee werden gestellt. Für d
 ie Kids gibt’s einen Spielraum im Blickfeld des Brunchs.</p><p><strong>U
 m Anmeldung wird gebeten bei Julia Henke\, Tel: (069) 37006407\, E-Mail: <
 /strong><a href="mailto:julia.henke@frankfurt-evangelisch.de"><strong>juli
 a.henke@frankfurt-evangelisch.de</strong></a></p>
DTSTART;VALUE=DATE:20261018
DTEND;VALUE=DATE:20261019
END:VEVENT
END:VCALENDAR
