BEGIN:VCALENDAR
PRODID:-//eluceo/ical//2.0/EN
VERSION:2.0
CALSCALE:GREGORIAN
BEGIN:VEVENT
UID:da9f83ec9e5c6fb1bf063bc8f29efdbf
DTSTAMP:20260425T004253Z
SUMMARY:Workshop "Fashion Sketch"
DESCRIPTION:<p>Modeillustrationen kommen in Magazinen\, Werbeanzeigen und B
 outiquen als eigenständige Kunstform zum Einsatz. Skizzen werden von Mode
 -Designer*innen verwendet\, um das Konzept ihrer Idee zu verdeutlichen. In
  der Modeindustrie gelten für die Zeichnungen strenge Richtlinien. Bei Fa
 shion Art hingegen kann der Fantasie freien Lauf gelassen werden. Mit vers
 chiedenen Medien wie Pastellkreiden\, Aquarell oder Markerstiften entwicke
 ln wir anhand von kleinen Figurinen in Fashion-Posen eigene Designs und Ku
 nstwerke. Dabei tauchen wir in die Welt des Modedesigns ein.</p><p><br>MIT
 : SARAH CHARLOTTE BLOCH\,<br>MODEDESIGNERIN UND ILLUSTRATORIN<br>KOSTEN: 2
 0 EURO</p>
DTSTART;VALUE=DATE:20260425
DTEND;VALUE=DATE:20260426
END:VEVENT
END:VCALENDAR
