BEGIN:VCALENDAR
PRODID:-//eluceo/ical//2.0/EN
VERSION:2.0
CALSCALE:GREGORIAN
BEGIN:VEVENT
UID:e04caf4eec63201b7892c53161f6282d
DTSTAMP:20260425T003517Z
SUMMARY:"Neues von BusStop":  BusStop präsentiert neues Theaterstück gege
 n Rassismus
DESCRIPTION:<p><strong>Mit Szenentiteln wie "Nachts an der Haltestelle" ode
 r "Schwarze Kopftuchfrauen" präsentiert "BusStop – Theater gegen Rassis
 mus" in zwei Aufführungen am 1. und 2. Mai 2026&nbsp\;jeweils ab 19 Uhr s
 ein neuestes Stück.</strong></p><p>Nach zahlreichen Auftritten in Frankfu
 rt und darüber hinaus zeigt das Ensemble nun das lang erwartete neue Prog
 ramm. Wie schon in den früheren Stücken bringt BusStop auch dieses Mal s
 elbstgeschriebene Szenen auf die Bühne. Die Texte basieren auf eigenen Er
 fahrungen der Spieler:innen und greifen Alltagssituationen auf\, in denen 
 Vorurteile\, Ausgrenzung und Zuschreibungen spürbar werden.</p><p>Das 13-
 köpfige Amateurensemble setzt sich aus Menschen unterschiedlichen Alters 
 und mit vielfältigen Lebensgeschichten zusammen. BusStop blickt 2026 auf 
 zehn Jahre Ensemblearbeit zurück\; eine Zeit\, in der das gemeinsame Thea
 termachen gegen Rassismus kontinuierlich gewachsen ist. Gerade diese Vielf
 alt prägt die Szenen: Sie berühren\, überraschen und regen zum Nachdenk
 en an\, ohne zu belehren.</p><p><strong>Einlass ist ab 18 Uhr.&nbsp\;Begin
 n ist um 19 Uhr.</strong><br><br><strong>Der Eintritt ist frei\, Spenden s
 ind erwünscht.&nbsp\;</strong><br><br><strong>Anmelden bitte per E-Mail a
 n: </strong><a href="mailto:info@busstop-frankfurt.com"><strong>info@busst
 op-frankfurt.com</strong></a></p><p><strong>Weitere Information unter </st
 rong><a href="https://busstop-frankfurt.com/Aktuell" target="_blank" title
 ="Externer Link zu Website (neuer Tab)"><strong>www.busstop-frankfurt.com<
 /strong></a></p>
DTSTART;VALUE=DATE:20260501
DTEND;VALUE=DATE:20260503
END:VEVENT
END:VCALENDAR
