BEGIN:VCALENDAR
PRODID:-//eluceo/ical//2.0/EN
VERSION:2.0
CALSCALE:GREGORIAN
BEGIN:VEVENT
UID:906802f3205a5aa25b365f3a3f929e0b
DTSTAMP:20260425T031057Z
SUMMARY:Beratung vor Ort: Zum Familiennachzug für Geflüchtete
DESCRIPTION:<p><strong>Kommen Sie zu uns ins </strong><a href="https://fran
 kfurt-welcome-information-center.de/" target="_blank" title="Externer Link
  zu Website (neuer Tab)"><strong>Frankfurt Welcome &amp\; Information Cent
 er</strong></a><strong>! Der Hessische&nbsp\;Flüchtlingsrat e.V. berät S
 ie zu Fragen rund um den Familiennachzug.</strong></p><p><strong>Wozu kann
  ich mich beraten lassen?</strong><br>Sie möchten wissen\, ob Sie Familie
 nnachzug beantragen können und wo Sie den Antrag stellen? Oder Sie möcht
 en wissen\, welche Dokumente Sie benötigen und was nach der Einreise pass
 iert?</p><p>Es beraten Sie Maliheh Bayat-Tork und André Heerling vom Hess
 ischen Flüchtlingsrat auf&nbsp\;Deutsch\, Englisch und Farsi.</p><p><stro
 ng>Wann ist die nächste Beratung?</strong><br>Die Beratungen finden jeden
  Montag von 11-14 Uhr statt (außer in den hessischen Schulferien).</p><p>
 Eine Anmeldung ist nicht erforderlich.</p><p><strong>Wie läuft die Beratu
 ng ab?</strong><br>Persönlich\, vertrauensvoll\, in entspannter Atmosphä
 re. Die Berater:innen hören Ihnen zu und möchten Ihre Situation gut vers
 tehen.&nbsp\;</p><p><strong>Wo ist die Beratung?</strong><br>Im Frankfurt 
 Welcome &amp\; Information Center mit Sitz im stadtRAUMfrankfurt nahe der 
 Galluswarte. Die Adresse ist Mainzer Landstraße 293\, 60326 Frankfurt am 
 Main. Hier geht's <a href="https://www.amka.de/wegbeschreibung" target="_b
 lank" title="Externer Link zu Website (neuer Tab)"><strong>zur Wegbeschrei
 bung</strong></a>.</p><p><strong>Wen kann ich kontaktieren\, wenn ich Frag
 en habe?</strong></p><p>Kommen Sie vorbei\, schreiben Sie uns eine E-Mail 
 oder rufen Sie uns an:<br>Amt für multikulturelle Angelegenheiten (AmkA) 
 im Frankfurt Welcome &amp\; Information Center<br>E-Mail: <a href="mailto:
  amka.info@stadt-frankfurt.de"><strong>amka.info@stadt-frankfurt.de</stron
 g></a><br>Tel.: (069) 212-41515</p><p><strong>Zur Übersicht </strong><a h
 ref="https://amka.de/beratung-vor-ort" target="_blank" title="Externer Lin
 k zu Website (neuer Tab)"><strong>aller "Beratung vor Ort"-Angebote</stron
 g></a></p>
DTSTART;VALUE=DATE:20260511
DTEND;VALUE=DATE:20260512
END:VEVENT
END:VCALENDAR
