BEGIN:VCALENDAR
PRODID:-//eluceo/ical//2.0/EN
VERSION:2.0
CALSCALE:GREGORIAN
BEGIN:VEVENT
UID:14adc1f7263f7ffcfc51d7832fd539fd
DTSTAMP:20260425T114329Z
SUMMARY:"Gut zu wissen!"-Inforeihe für Engagierte: Haben Sie rechtliche Fr
 agen zur Eingliederungshilfe?
DESCRIPTION:<p><strong>Eingliederungshilfe\, Suchtprävention und Gesundhei
 tsförderung Menschen mit Behinderung haben das Recht auf Eingliederungshi
 lfe\, z.B. beim Wohnen oder am Arbeitsplatz. Erfahren Sie\, wer dabei hilf
 t!&nbsp\;</strong></p><p>Außerdem werden vorgestellt: "BINSO"\, ein Proje
 kt für Menschen mit Migrationsbiographie zur Stärkung des Gesundheitsbew
 usstseins und der Selbstbestimmung sowie einige Angebote für junge Mensch
 en\, die Ressourcen und Risikokompetenzen kräftigen.&nbsp\;</p><p>Es info
 rmieren: Mariam Doost\, Projekt „Unser Recht“\, Lebenshilfe Frankfurt 
 am Main e.V. und Faouzia Mounsif-Amsiouji vom Verein Arbeits- und Erziehun
 gshilfe e.V.</p><p><strong>Wir bitten um Anmeldung per E-Mail an: </strong
 ><a href="mailto:amka.info@stadt-frankfurt.de"><strong>amka.info@stadt-fra
 nkfurt.de</strong></a></p><p>Bitte beachten Sie\, dass die Anzahl der Teil
 nehmer:innen begrenzt ist.</p><p><strong>Für wen ist "Gut zu wissen!"?</s
 trong></p><ul><li>für ehrenamtlich Tätige\, insbesondere Vertreter:innen
  aus Migrant:innenorganisationen</li><li>für Hauptamtliche</li><li>für a
 lle Interessierten</li></ul><p><strong>"Gut zu wissen!" ist eine Informati
 onsreihe in Kooperation von:</strong></p><ul><li>Katholische Erwachsenenbi
 ldung<br>Dr. Markus Breuer<br>Domplatz 3<br>Haus am Dom<br>60311 Frankfurt
  am Main<br>Tel.: (069) 8008718-460<br>E-Mail:&nbsp\;<a href="mailto:keb.f
 rankfurt@bistumlimburg.de">keb.frankfurt@bistumlimburg.de</a><br>Web:&nbsp
 \;<a href="https://keb-frankfurt.bistumlimburg.de/" target="_blank">www.ke
 b-frankfurt.de</a><br>&nbsp\;</li><li>Amt für multikulturelle Angelegenhe
 iten der Stadt Frankfurt am Main</li></ul>
DTSTART;VALUE=DATE:20260609
DTEND;VALUE=DATE:20260610
END:VEVENT
END:VCALENDAR
