BEGIN:VCALENDAR
PRODID:-//eluceo/ical//2.0/EN
VERSION:2.0
CALSCALE:GREGORIAN
BEGIN:VEVENT
UID:93ed155836efad23a48cca8eaaa7fb8d
DTSTAMP:20260425T043020Z
SUMMARY:"Ein Tag für die Musik": Konzert mit anschließender Jam-Session
DESCRIPTION:<p><strong>Im Rahmen der hessenweiten Aktion "Ein Tag für die 
 Musik" des </strong><a href="https://www.hr2.de/index.html" target="_blank
 " title="Externer Link zu Website (neuer Tab)"><strong>Senders hr2</strong
 ></a><strong> am 17. Mai 2026 veranstaltet das </strong><a href="https://w
 ww.amka.de/" target="_blank" title="Externer Link zu Website (neuer Tab)">
 <strong>Amt für multikulturelle Angelegenheiten</strong></a><strong> (Amk
 A) in Kooperation dem </strong><a href="https://bridges-kammerorchester.de
 /" target="_blank" title="Externer Link zu Website (neuer Tab)"><strong>Br
 idges Kammerorchester</strong></a><strong> ein Konzert mit anschließender
  offenen Session.</strong></p><p>Es spielt das <a href="https://bridges-ka
 mmerorchester.de/community/ensemble-dusti" target="_blank" title="Externer
  Link zu Website (neuer Tab)">Hobby-Ensemble "Dusti"</a> des Bridges Kamme
 rorchesters mit Instrumenten wie Erhu\, Harfe\, Bağlama\, Flöte und Darb
 uka. Nach dem Konzert sind alle zum gemeinsamen Jammen eingeladen – sowo
 hl Profis wie auch ambitionierte Hobby-Instrumentalist*innen.&nbsp\;</p><p
 >Die Veranstaltung ist Teil der hr2-Initiative "Ein Tag für die Musik".</
 p><p>Eine Anmeldung ist nicht erforderlich.&nbsp\;</p><p>Noten zur Vorbere
 itung gibt es auf Anfrage unter dieser E-Mail-Adresse: <a href="mailto:nic
 ola.vock@bridges-kammerorchester.de">nicola.vock@bridges-kammerorchester.d
 e</a></p>
DTSTART;VALUE=DATE:20260517
DTEND;VALUE=DATE:20260518
END:VEVENT
END:VCALENDAR
