BEGIN:VCALENDAR
PRODID:-//eluceo/ical//2.0/EN
VERSION:2.0
CALSCALE:GREGORIAN
BEGIN:VEVENT
UID:ccc58e5e355e119295526a0a0ed468bb
DTSTAMP:20260425T015559Z
SUMMARY:Queere Karrieremesse "Rainbow-Career-Day" in Frankfurt 
DESCRIPTION:<p><strong>Willkommen beim Rainbow-Career-Day Frankfurt an der 
 Goethe-Universität – der einzigen queeren Karrieremesse an einer staatl
 ichen Hochschule.</strong><br><strong>Für alle\, die Vielfalt leben und s
 chätzen!</strong></p><p>Wir lieben Vielfalt und ihr auch. Deswegen findet
  der Rainbow-Career-Day auch 2026 wieder an und mit der Goethe-Universitä
 t statt\, mit Termin 07. Mai. Der&nbsp\;Rainbow-Career-Day Frankfurt\,&nbs
 p\;direkt am Campus Westend\, ermöglicht allen Interessierten eine außer
 gewöhnliche Gelegenheit\, in einer angenehmen Atmosphäre in Gespräche m
 it Unternehmen zu treten\, die eigenen Karrierechancen auszuloten und zu e
 rfahren\, wie eine moderne Firma allen Mitarbeitenden ein zeitgemäßes\, 
 wertschätzendes Arbeitsumfeld bietet.</p><p>Der Eintritt ist frei!</p>
DTSTART;VALUE=DATE:20260507
DTEND;VALUE=DATE:20260508
END:VEVENT
END:VCALENDAR
