BEGIN:VCALENDAR
PRODID:-//eluceo/ical//2.0/EN
VERSION:2.0
CALSCALE:GREGORIAN
BEGIN:VEVENT
UID:5d9854ee1f81ba3a9f4ea35a2ba56e47
DTSTAMP:20260425T003232Z
SUMMARY:UNITED BY BARZ – Calisthenics Community Event – mit Flythenics
DESCRIPTION:<p><strong>2. Mai 2026 | 11:00–17:00 Uhr | kostenfrei | für 
 alle Levels</strong></p><p>Das Calisthenics Community Event im DAM bringt 
 Athlet*innen\, Sportbegeisterte und Zuschauer:innen zusammen – für eine
 n Tag voller Kraft\, Dynamik und echtem Community-Spirit. Das Besondere an
  Calisthenics ist\, dass dabei vor allem das eigene Körpergewicht als Wid
 erstand genutzt wird.</p><p>Im Mittelpunkt stehen <strong>Set &amp\; Reps 
 Challenges</strong>\, spannende <strong>1-vs-1 Battles</strong> und energi
 egeladene <strong>Freestyle-Performances</strong>. Gleichzeitig setzen wir
  ein klares Zeichen für Vielfalt und Inklusion: In unserer <strong>Divers
 ity-Kategorie</strong> sind ausdrücklich auch Wheelchair-Athlet:innen und
  Menschen mit Behinderung eingeladen\, ihr Können zu zeigen.</p><p>Ein be
 sonderes Highlight: Mit dabei sind bekannte Größen der Szene wie der Fra
 nkfurter Calisthenics Champion <strong>Thanh Nguyen</strong> (@Latwist) so
 wie Calisthenics Influencer und Coach <strong>Andy East</strong> (@East Mo
 vement)\, die das Event mit ihrer Präsenz und Erfahrung bereichern.</p><p
 >Ob Anfänger:in oder Profi – hier geht es um Respekt\, Fairness und gem
 einsame Bewegung. Unterstützt von DJ\, Moderation und einer mitreißenden
  Atmosphäre wird das Event zu einem Treffpunkt für die gesamte Calisthen
 ics-Community.</p><p><strong>Strength. Community. No Limits.</strong></p><
 p><strong>Zur Ausstellung: </strong><a href="https://dam-online.de/veranst
 altung/die-stadt-ist-der-sport-staedte-in-bewegung-beispiele-aus-ganz-euro
 pa-2026/"><strong>DIE STADT IST DER SPORT. STÄDTE IN BEWEGUNG: BEISPIELE 
 AUS GANZ EUROPA | DAM Online</strong></a></p><p><strong>+++ </strong>Hier 
 finden Sie weitere Veranstaltungen und Beiträge zu<strong> </strong><a hr
 ef="https://www.vielfalt-bewegt-frankfurt.de/de/suche/Sportkreis" title="I
 nterner Link zu Detailseite"><strong>Vielfalt im Sport</strong></a>.<stron
 g> +++</strong></p>
DTSTART;VALUE=DATE:20260502
DTEND;VALUE=DATE:20260503
END:VEVENT
END:VCALENDAR
