BEGIN:VCALENDAR
PRODID:-//eluceo/ical//2.0/EN
VERSION:2.0
CALSCALE:GREGORIAN
BEGIN:VEVENT
UID:ac25c801a94faaef4488aceab3954b5f
DTSTAMP:20260425T015158Z
SUMMARY:Community Day – Kids\, Jugendliche\, Erwachsene & Pro-Spieler
DESCRIPTION:<p><strong>9. Mai 2026 | 16:00 – 20:00 Uhr | Beats n Buckets 
 | Basketball 1v1 im Auditorium | kostenfrei</strong></p><p>Urbaner Sport t
 rifft auf Architektur und Kultur.</p><p>Das <strong>Deutsche Architekturmu
 seum</strong> wird zur Bühne für ein außergewöhnliches <strong>1-vs-1 
 Basketball-Event</strong> mitten in der Stadt.</p><p>Am Community Day geh
 ört das Spielfeld zunächst den Männern – mit spannenden Duellen\, spo
 rtlicher Energie und einer offenen Community-Atmosphäre.</p><p>Neben den 
 Matches entsteht ein lebendiges Bewegungsfestival für alle Generationen:<
 br>Kids\, Jugendliche und Erwachsene können beim <strong>Open Court</stro
 ng> selbst aktiv werden\, während <strong>Meet &amp\; Greets mit Profi-Sp
 ielern</strong>\, <strong>Dance Battles</strong> und <strong>Live-Performa
 nces</strong> zusätzliche Highlights setzen.</p><p>Ziel ist es\, besonder
 s Kinder und Jugendliche für Bewegung zu begeistern und Basketball niedri
 gschwellig zugänglich zu machen. Sport\, Begegnung und kulturelles Ambien
 te verschmelzen zu einem einzigartigen Erlebnis im Herzen Frankfurts.</p><
 p>&nbsp\;</p><p>Zur Ausstellung: <a href="https://dam-online.de/veranstalt
 ung/die-stadt-ist-der-sport-staedte-in-bewegung-beispiele-aus-ganz-europa-
 2026/">DIE STADT IST DER SPORT. STÄDTE IN BEWEGUNG: BEISPIELE AUS GANZ EU
 ROPA | DAM Online</a></p>
DTSTART;VALUE=DATE:20260509
DTEND;VALUE=DATE:20260510
END:VEVENT
END:VCALENDAR
