BEGIN:VCALENDAR
PRODID:-//eluceo/ical//2.0/EN
VERSION:2.0
CALSCALE:GREGORIAN
BEGIN:VEVENT
UID:6ee80b5130a6fc56442cb03ec59bab00
DTSTAMP:20260425T030845Z
SUMMARY:Women’s Day – Basketball & Empowerment
DESCRIPTION:<p><strong>10. Mai 2026 | 16:00 – 20:00 Uhr | Beats n Buckets
  | Basketball 1v1 im Auditorium | kostenfrei</strong></p><p>Urbaner Sport 
 trifft auf Architektur und Kultur.</p><p>Am Women’s Day gehört die Büh
 ne den Frauen und jungen Mädchen. Beim Women’s Day im <strong>Deutsches
  Architekturmuseum</strong> stehen weibliche Basketballspielerinnen im Mit
 telpunkt eines besonderen <strong>1-vs-1 Events</strong>.</p><p>In inspiri
 erender Atmosphäre treffen sportliche Performance\, Community-Spirit und 
 kulturelles Umfeld aufeinander. Neben den intensiven Matches bietet das Ev
 ent Raum für Austausch und Inspiration:</p><p>Open Court Sessions\, Begeg
 nungen mit Profi-Spielerinnen\, Dance Battles und Live-Performances machen
  den Tag zu einem kraftvollen Community-Erlebnis.</p><p>Der Women’s Day 
 setzt ein klares Zeichen für <strong>mehr Sichtbarkeit von Frauen im Spor
 t</strong> und motiviert besonders Mädchen und junge Frauen\, selbst akti
 v zu werden. Sport\, Empowerment und Kultur verbinden sich zu einem außer
 gewöhnlichen Event mitten in Frankfurt.</p><p>&nbsp\;</p><p>Zur Ausstellu
 ng: <a href="https://dam-online.de/veranstaltung/die-stadt-ist-der-sport-s
 taedte-in-bewegung-beispiele-aus-ganz-europa-2026/">DIE STADT IST DER SPOR
 T. STÄDTE IN BEWEGUNG: BEISPIELE AUS GANZ EUROPA | DAM Online</a></p>
DTSTART;VALUE=DATE:20260510
DTEND;VALUE=DATE:20260511
END:VEVENT
END:VCALENDAR
