BEGIN:VCALENDAR
PRODID:-//eluceo/ical//2.0/EN
VERSION:2.0
CALSCALE:GREGORIAN
BEGIN:VEVENT
UID:939d424290d6b78adfce0c583e53c3de
DTSTAMP:20260424T221223Z
SUMMARY:MELODIVA Workshops FLINTA* only 25.-26.04.2026
DESCRIPTION:<p><strong>SAMSTAG UND SONNTAG\, 25.-26.04.2026</strong></p><p>
 <strong>Songwriting mit Katerina Zhukova (sie/ihr)</strong></p><p>Du möch
 test einen eigenen Song schreiben und weißt nicht wie? Du hast schon eine
 n Text\, aber noch keine Musik? Wie überwindest Du eine Schreib-Blockade?
  In unserem Songwriting-Workshop mit Katerina Zhukova – Popakademie Mast
 er-Absolventin – kannst Du wertvolle Übungen &amp\; Tipps von einer Pro
 fi-Songwriterin kennenlernen und Dich mit anderen austauschen.</p><p>Unter
  dem Künstlernamen LOEN erschafft Katerina eine intime Klangwelt zwischen
  Indie-Folk und Art-Pop. Sie schreibt Heilungslieder für unruhige Herzen 
 und vereint in ihrer Musik die Melancholie von Feist\, die Ausdruckskraft 
 von Stevie Nicks und die tief verwurzelte Sehnsucht traditioneller Volksli
 eder. In ihren Live-Auftritten verbindet Loen poetische Texte mit einer wa
 rmen\, authentischen Bühnenpräsenz\, die das Publikum in eine sanfte\, f
 ast meditative Stimmung versetzt. Für Loen ist Musik ein Weg der Heilung 
 – ihre Songs laden dazu ein\, sich zu erinnern\, zu fühlen und sich sel
 bst wiederzufinden.</p><p><strong>Live-Sound-Technik mit Tilli Treier (kei
 ne Pronomen)</strong></p><p>Die Verantwortung für die Tontechnik bei eine
 m Konzert zu übernehmen ist eine spannende aber auch beanspruchende Aufga
 be. In diesem Workshop lernt ihr die wichtigsten Dinge die es braucht um i
 n dieses Feld einzusteigen. Wir Mikrofonieren\, verlegen Kabel\, Mixen den
  Sound am Mischpult und am wichtigsten\, wir haben dabei Spaß. Es sind ke
 ine Vorkenntnisse nötig und alle Fragen sind wärmstens willkommen.</p><p
 >Geleitet wird der Workshop von Tilli Treier aus Frankfurt. Tilli hat 15 J
 ahre Banderfahrung an unterschiedlichen Instrumenten\, schreibt und produz
 iert Musik für eigene wie andere Projekte und coacht bzw. leitet Workshop
 s insbesondere für interessierte FLINTA*-Gruppen. Tilli ist momentan akti
 v in den Bands: TOYBOYS\, Kill Morrissey\, Suspectre\, Die platzenden Pick
 el.</p><p><strong>SAMSTAG\, 25.042026:</strong></p><p><strong>Screaming-Wo
 rkshop mit Laura Gierl (sie/ihr)</strong></p><p>Aufgrund der hohen Nachfra
 ge haben wir diesen Workshop nun zum zweiten Mal für Dich im Angebot! Die
 ser Workshop eignet sich für Beginnende\, aber auch für Fortgeschrittene
 \, die sich der Technik und Anatomie nicht bewusst sind oder sich selbst n
 och einmal kontrollieren möchten. Bitte bringt euch etwas zum Trinken mit
  (Wasser oder Tee\, keine Milchprodukte oder Limo) und ein großes Handtuc
 h. Auf jeden theoretischen Teil folgen praktische Übungen. Im Anschluss g
 ibt es eine offene Fragerunde\, in der Laura noch einmal auf deine konkret
 en Fragen oder Probleme eingehen kann. Am Ende des Workshops werdet ihr We
 rkzeuge an der Hand haben\, um eigenständig zu üben und euch zu kontroll
 ieren.</p><p>Laura ist seit ihrem 19. Lebensjahr als Sängerin im Metalgen
 re tätig.<br>Mit ihrer Band „The Tex Avery Syndrome“ ist sie seit üb
 er 10 Jahren auf den Bühnen in ganz Deutschland und darüber hinaus zu Ha
 use. Als Tontechnikerin hat sie die deutschen Stimmen für Final Fantasy\,
  World of Warcraft\, Resident Evil und mehr aufgenommen und mit namhaften 
 Synchronsprecher*innen gearbeitet. Zudem hat sie auch ihre Stimme für Cre
 atures der BOOM Library zur Verfügung gestellt. Seit knapp 3 Jahren gibt 
 sie Unterricht und Workshops für Harsh Vocals.</p><p>&nbsp\;</p><p><stron
 g>Preise:</strong></p><p>Ein-Tages-Workshop Screaming mit Laura Gierl: 25 
 €<br>Zeiten: 11:00–17:00</p><p>Songwriting-Workshop oder Sound-Technik
 :<br>Solidarische Staffelpreise: 25 € ermäßigt\, 50 €\, 75 € Suppo
 rt</p><p>Zeiten\, Technik-Workshop: Sa. 11:00–16:00\, So. 11:00–17:00<
 br>Zeiten\, Songwriting-Workshop Sa. 11:00–17:00\, So. 11:00–17:00<br>
 &nbsp\;</p><p><strong>Ort:&nbsp\;</strong></p><p>Waggong e.V.<br>Germanias
 traße 89<br>60389 Frankfurt</p><p><strong>Anmeldung:&nbsp\;</strong></p><
 p><a href="https://www.melodiva.de/flinta-workshop-songwriting-25-26-04-20
 26-mit-katerina/" target="_blank">Songwriting</a></p><p><a href="https://w
 ww.melodiva.de/flinta-workshop-technik-25-26-04-2026-mit-tilli/" target="_
 blank">Technik&nbsp\;</a></p><p><a href="https://www.melodiva.de/flinta-wo
 rkshop-screaming-25-04-2026-mit-laura/" target="_blank">Screaming</a></p><
 p>FLINTA* bedeuted: (Frauen\, Lesben\, inter\, nicht-binäre\, trans und a
 gender Menschen)</p><p><em>Eine Kooperation des Frauen* Musik Büros und <
 /em><a href="http://www.waggong.de" target="_blank"><em>Waggong e.V.</em><
 /a><em>&nbsp\; – gefördert durch Frauenreferat Frankfurt und Kulturamt 
 Frankfurt.</em></p>
DTSTART;VALUE=DATE:20260425
DTEND;VALUE=DATE:20260427
END:VEVENT
END:VCALENDAR
