BEGIN:VCALENDAR
PRODID:-//eluceo/ical//2.0/EN
VERSION:2.0
CALSCALE:GREGORIAN
BEGIN:VEVENT
UID:2c76c11d361bf9e18591ac39292896d9
DTSTAMP:20260425T031104Z
SUMMARY:SKIB Festival 2026
DESCRIPTION:<p>Bald ist es wieder so weit: Das beliebte SKIB Festival finde
 t am <strong>Sonntag\, 10. Mai 2026 (Einlass ab 12 Uhr\, Beginn 13 Uhr)</s
 trong> in der <strong>Leichtathletikhalle im Sport- und Freizeitzentrum Ka
 lbach</strong> statt. Das Spiel- und Sportfest bietet verschiedene kostenl
 ose Mitmachaktionen für Kinder von 5 bis 8 Jahren und ihre Familien in de
 n Bereichen Bewegung und Ernährung.</p><p>Alle Frankfurter Grundschüler*
 innen der Jahrgangsstufen 1 und 2 werden jedes Jahr zum SKIB Festival eing
 eladen. Kinder können sich an diesem Tag an verschiedenen Sportstationen 
 ausprobieren und an einer großen Tombola teilnehmen\, während die Eltern
  sich bei den anwesenden Vereinen über deren Sportangebot informieren kö
 nnen. Zusätzliche Mitmachangebote im Bereich Sport und gesunde Ernährung
  sorgen dafür\, dass die Familien einen rundum aktiven Tag erleben. Eine 
 frühe Anmeldung lohnt sich: Die ersten 600 angemeldeten Kinder erhalten e
 in Willkommensgeschenk inkl. T-Shirt.</p><p><strong>+++ </strong>Hier find
 en Sie weitere Veranstaltungen und Beiträge zu<strong> </strong><a href="
 https://www.vielfalt-bewegt-frankfurt.de/de/suche/Sportkreis" title="Inter
 ner Link zu Detailseite"><strong>Vielfalt im Sport</strong></a>.<strong> +
 ++</strong></p>
DTSTART;VALUE=DATE:20260510
DTEND;VALUE=DATE:20260511
END:VEVENT
END:VCALENDAR
