BEGIN:VCALENDAR
PRODID:-//eluceo/ical//2.0/EN
VERSION:2.0
CALSCALE:GREGORIAN
BEGIN:VEVENT
UID:d38ffbd0a998935a3918d6c0f0b878be
DTSTAMP:20260425T154345Z
SUMMARY:Frauenschwimmprojekt für Anfängerinnen
DESCRIPTION:<p>Sie wollen Schwimmen lernen? Oder weiter üben?<br>Oder einf
 ach mit Wasser in Kontakt kommen?<br>Dieser Schwimmkurs wird für Frauen u
 nd Mädchen ab 16 Jahren angeboten.<br>Der Intensivkurs wird von einer Sch
 wimmlehrerin geleitet &amp\;<br>in einer Schwimmhalle\, die von außen nic
 ht einsichtig ist\, stattfinden.</p><p><strong>Ort: </strong>Wird noch bek
 annt gegeben.</p><p><strong>Zeiten:</strong> 29.06. bis 10.07.2025\, jewei
 ls Montag bis Freitag\,</p><p>Kurs 1: von 16:00 bis 16:45 Uhr\;</p><p>Kurs
  2: von 17:00 bis 17.45 Uhr\;</p><p>Kurs 3: von 18:00 bis 18:45 Uhr</p><p>
 (bitte davor bzw. danach jeweils noch ca. 15 Minuten für das Umziehen mit
  einplanen)</p><p><strong>Treffpunkt:</strong> 15 Minuten vor Beginn der U
 nterrichtsstunde Eingangstür Schwimmhalle. Bitte kommen Sie pünktlich. E
 ine von uns holt Sie dort ab.</p><p><strong>Leitung:</strong> Schwimmlehre
 rin von Makkabi</p><p><strong>Kosten:</strong> 10 Termine: 120 €\, jewei
 ls Montag bis Freitag. Mit Frankfurt-Pass\, ALG II und für Geringverdiene
 rin reduziert auf 60 € (Bitte einen schriftlichen Nachweis mitbringen).<
 /p><p><strong>Koordination: </strong>Maimouna Jah</p><p>Bei Interesse am S
 chwimmkurs schicken Sie uns bitte eine E-Mail mit Telefonnummer und Adress
 e vorab an</p><p><strong>frauentreff-frankfurter-berg@frankfurt-evangelisc
 h.de.</strong></p><p>Weitere Infos erhalten Sie telefonisch unter <strong>
 069 920 708 - 11</strong> sowie persönlich bei folgenden <strong>Vortreff
 en</strong>:</p><ul><li>Am <strong>Mo\, 08.06.\, Mo\, 15.06.</strong> und 
 <strong>Mo\, 22.06</strong>. von <strong>14:00 bis 15:00 Uhr:</strong> <st
 rong>EVA am Frankfurter Berg\, Julius-Brecht-Straße 1\, EG\, 60433 Frankf
 urt</strong></li><li>Am <strong>Di\, 09.06.</strong> und <strong>Di\, 23.0
 6.</strong> von <strong>10:00 bis 12:00 Uhr</strong>:<strong> EVA Frauenze
 ntrum\, Saalgasse 15\, 60311 Frankfurt (Innenstadt)</strong></li></ul><p>D
 ie persönliche Teilnahme an einem Vorbereitungstreffen zur weiteren Infor
 mation\, Anmeldung und Barzahlung ist verbindlich! Der Platz ist reservier
 t\, sobald die Kursgebühr vor Ort bezahlt wurde. Weitere Termine zur Info
 rmation und Anmeldung nach Vereinbarung möglich.</p><p>Dieses Angebot wir
 d durch den Sportverein TuS Makkabi Frankfurt e.V. unterstützt.</p><p>Die
  Stadtteilarbeit des Evangelischen Frauenbegegnungszentrums (EVA) wird gef
 ördert vom Frauenreferat Stadt Frankfurt.</p>
DTSTART;VALUE=DATE:20260629
DTEND;VALUE=DATE:20260711
END:VEVENT
END:VCALENDAR
