BEGIN:VCALENDAR
PRODID:-//eluceo/ical//2.0/EN
VERSION:2.0
CALSCALE:GREGORIAN
BEGIN:VEVENT
UID:367dd5327ec7d0f9fdeeb65fc69cd030
DTSTAMP:20260425T154346Z
SUMMARY:Rheinromantik auf der Loreley - Urlaub ohne Koffer
DESCRIPTION:<p>Am 01. Juli laden wir dich herzlich zu einer besonderen Rhei
 nschifffahrt von Rüdesheim zur Loreley und zurück ein – ein Tag zum Ge
 nießen\, Austauschen und Innehalten in geschützter\, weiblicher Gemeinsc
 haft. Während das Schiff sanft über den Rhein gleitet\, ziehen sonnenbes
 chienene Weinberge\, romantische Fachwerkorte und majestätische Burgen an
  uns vorbei. Wir passieren sagenumwobene Felsen\, jahrhundertealte Ruinen 
 und erleben den Höhepunkt der Fahrt an der Loreley – jenem mystischen S
 chieferfelsen\, der seit Jahrhunderten Geschichten von Weiblichkeit\, Stim
 me und Tiefe trägt. An Bord erwartet uns ein gemeinsames Essen\, Raum fü
 r Gespräche\, Lachen und stilles Schauen – begleitet vom weiten Blick 
 über das Rheintal\, wo Wasser\, Himmel und Geschichte miteinander verschm
 elzen.</p><p><strong>Koordination und Anmeldung: Maimouna Jah</strong></p>
 <p><a href="mailto:frauentreff-frankfurter-berg@frankfurt-evangelisch.de">
 <strong>frauentreff-frankfurter-berg@frankfurt-evangelisch.de</strong></a>
 <strong> oder mobil 01521 2640215.</strong></p><p>Die persönliche Teilnah
 me zur Anmeldung und Barzahlung ist</p><p>erforderlich! Der Platz ist rese
 rviert\, sobald die Teilnahmegebühr vor Ort bezahlt wurde.</p><p>Zu folge
 nden Vortreffen können Sie einfach kommen:</p><ul><li>Am <strong>Mo\, 20.
 04.</strong> und <strong>Mo\, 27.04.</strong> jeweils von <strong>14:00 bi
 s 15:00 Uhr</strong>: EVA am Frankfurter Berg\, <strong>Julius-Brecht-Stra
 ße 1\, EG\, 60433 Frankfurt</strong></li><li>Am <strong>Di\, 26.05.</stro
 ng> von <strong>10:00 – 12:00 Uhr</strong> oder <strong>16:00 bis 17:00 
 Uhr</strong>: EVA\, <strong>Saalgasse 15\, 60311</strong> <strong>Frankfur
 t (Innenstadt)</strong></li></ul>
DTSTART;VALUE=DATE:20260701
DTEND;VALUE=DATE:20260702
END:VEVENT
END:VCALENDAR
