BEGIN:VCALENDAR
PRODID:-//eluceo/ical//2.0/EN
VERSION:2.0
CALSCALE:GREGORIAN
BEGIN:VEVENT
UID:53cd33282e46248dc78e0bc3561ac8ad
DTSTAMP:20260424T220530Z
SUMMARY:Sudanesisches Kino in Frankfurt: COTTON QUEEN Premiere mit Regisseu
 rin und Hauptdarstellerin
DESCRIPTION:<p>Am 23. April startet&nbsp\;<strong>COTTON QUEEN</strong>&nbs
 p\;in Deutschland – der&nbsp\;<strong>erste Spielfilm einer sudanesische
 n Regisseurin\,&nbsp\;</strong>entstanden in Ägypten wegen des Kriegs im 
 Sudan.<strong>&nbsp\;&nbsp\;</strong>Für die&nbsp\;<strong>Premiere in</s
 trong>&nbsp\;<strong>Frankfurt am 25. April um 14 Uhr im Cinema</strong>&n
 bsp\;werden die&nbsp\;<strong>Regisseurin Suzannah Mirghani&nbsp\;</strong
 >und die<strong>&nbsp\;Hauptdarstellerin Mihad Murtada voraussichtlich per
 sönlich vor Ort&nbsp\;</strong>sein.</p><p><strong>Zum Film:</strong><br>
 In einem sudanesischen Baumwoll-Dorf wächst Nafisa mit den märchenhaften
  Geschichten ihrer Großmutter auf. Als ein Geschäftsmann aus dem Ausland
  mit genetisch verändertem Saatgut und großen Entwicklungsplänen ersche
 int\, wird sie zur Schlüsselfigur im Machtspiel um die Zukunft des Dorfes
  – und entdeckt dabei ihre eigene Stärke.&nbsp\;COTTON QUEEN&nbsp\;ist 
 eine&nbsp\;<strong>poetische\, farbenfrohe und warm erzählte Geschichte 
 über das Erwachsenwerden\, Gemeinschaft und Selbstbestimmung</strong>. De
 r Film feierte seine Premiere bei den Internationalen Filmfestspielen von 
 Venedig und wurde international mehrfach ausgezeichnet\, unter anderem mit
  dem Hauptpreis in Thessaloniki und dem Publikumspreis in Doha.</p><p><str
 ong>Suzannah Mirghani sagt über ihren Film:</strong>&nbsp\;<em>"Als Kind 
 im Sudan waren die Baumwollfelder für mich ein Ort der Magie: Baumwolle f
 iel im Wind&nbsp\;wie Schnee\, weiße Knospen schienen im Licht der unterg
 ehenden Sonne zu brennen. Erst später&nbsp\;erkannte ich die Geschichte v
 on Leid und Ausbeutung\, die die britische Kolonialherrschaft in diese&nbs
 p\;Landschaft eingeschrieben hat. COTTON QUEEN verbindet diese Gegensätze
  – die Schönheit der&nbsp\;Baumwolle und den Widerstand gegen die Gewal
 t der Industrie."</em></p><p><em>****** „Suzannah Mirghanis Spielfilmdeb
 üt ist eine Seltenheit: Eine Geschichte aus dem Sudan\, die nicht die neg
 ativen Seiten in den Mittelpunkt stellt.“&nbsp\;</em>–&nbsp\;<strong>A
 frica News</strong></p><p><strong>Der Frieden liegt für den Sudan in weit
 er Ferne.&nbsp\;</strong>Die Vereinten Nationen sprechen von der größten
  humanitären Krise der Welt – doch in den westlichen Medien findet der 
 Konflikt kaum Beachtung.&nbsp\;Trotz sucht sich die sudanesische Filmkunst
  seine Wege. &nbsp\;<strong>Cotton Queen</strong>&nbsp\;ist dafür ein Bei
 spiel: Ein Film\, der Realismus und Magie\, Tradition und Moderne\, Vergan
 genheit und Gegenwart verbindet. Eine Geschichte\, die stärkt\, inspirier
 t und zeigt\, was die Zukunft des sudanesischen Kinos bereithält.</p>
DTSTART;VALUE=DATE:20260425
DTEND;VALUE=DATE:20260426
END:VEVENT
END:VCALENDAR
