BEGIN:VCALENDAR
PRODID:-//eluceo/ical//2.0/EN
VERSION:2.0
CALSCALE:GREGORIAN
BEGIN:VEVENT
UID:c39c3c0ef6415793861fbbbccad3cb92
DTSTAMP:20260425T112719Z
SUMMARY:Beratung vor Ort: Migrationsberatung
DESCRIPTION:<p><strong>Fachleute für Migrationsberatung unterstützen Sie 
 in Form einer kurzen Orientierungsberatung bei Fragen rund um das Leben in
  Deutschland\, beim Erlernen der deutschen Sprache\, bei Fragen rund um Ar
 beit und Beruf und beim Umgang mit Behörden.</strong></p><p>Es beraten im
  Wechsel die Migrationsberatungsstellen in Frankfurt. Eine Übersicht der 
 Migrationsberatungsstellen in Frankfurt mit Adressen und Kontakten&nbsp\;<
 a href="https://www.amka.de/flyer-willkommen" target="_blank" title="Exter
 ner Link zu Website (neuer Tab)"><strong>finden Sie hier</strong></a>.&nbs
 p\;</p><p><strong>Wann finden die Beratungen statt?</strong><br>Die Beratu
 ngen finden jeden Freitag statt\, jeweils von 11 bis 13 Uhr.</p><p><strong
 >Wie läuft die Beratung ab?</strong><br>Persönlich\, vertrauensvoll\, in
  entspannter Atmosphäre. Die Fachleute hören Ihnen zu und möchten Ihre 
 Situation gut verstehen.</p><p><strong>Wo ist die Beratung?</strong><br>Im
  Frankfurt Welcome &amp\; Information Center nahe der Galluswarte. Die Adr
 esse ist Mainzer Landstraße 293\, 60326 Frankfurt am Main. Hier geht's&nb
 sp\;<a href="https://www.amka.de/wegbeschreibung" target="_blank" title="E
 xterner Link zu Website (neuer Tab)"><strong>zur Wegbeschreibung</strong><
 /a>.</p><p><strong>Wie komme ich zur Galluswarte?</strong></p><ul><li>Mit 
 der S-Bahn S3\, S4\, S5\, S6</li><li>Mit dem Bus 52</li><li>Mit den Straß
 enbahnen 11\, 14\, 21</li></ul><p><strong>Wen kann ich kontaktieren\, wenn
  ich Fragen habe?</strong><br>Kommen Sie vorbei\, schreiben Sie uns eine E
 -Mail oder rufen Sie uns an:<br>Amt für multikulturelle Angelegenheiten (
 AmkA) im Frankfurt Welcome &amp\; Information Center<br>E-Mail:&nbsp\;<a h
 ref="mailto:amka.info@stadt-frankfurt.de" title="Verlinkte E-Mail-Adresse"
 ><strong>amka.info@stadt-frankfurt.de</strong></a><br>Telefon: (069) 212-4
 1515</p><p><strong>Zur Übersicht </strong><a href="https://www.amka.de/be
 ratung-vor-ort" target="_blank" title="Externer Link zu Website (neuer Tab
 )"><strong>aller "Beratung vor Ort"-Angebote</strong></a></p>
DTSTART;VALUE=DATE:20260605
DTEND;VALUE=DATE:20260606
END:VEVENT
END:VCALENDAR
