BEGIN:VCALENDAR
PRODID:-//eluceo/ical//2.0/EN
VERSION:2.0
CALSCALE:GREGORIAN
BEGIN:VEVENT
UID:ef19e48c1dbf636d45540c36a1da9a33
DTSTAMP:20260425T113636Z
SUMMARY:Beratung vor Ort: Zu Arbeit und Beruf
DESCRIPTION:<p><strong>Kommen Sie zu uns ins&nbsp\;</strong><a href="https:
 //www.frankfurt-welcome-information-center.de/" target="_blank" title="Ext
 erner Link zu Website (neuer Tab)"><strong>Frankfurt Welcome &amp\; Inform
 ation Center</strong></a><strong>! Hier beraten Sie Fachleute kostenlos zu
  vielen Fragen rund um Arbeit und Beruf\, Selbständigkeit oder Anerkennun
 g von Abschlüssen – auf Deutsch\, Englisch und weiteren Sprachen.</stro
 ng></p><p>Die Beratungen finden&nbsp\;immer mittwochs statt (außer in den
  hessichen Schulferien). Die Themen und jeweiligen Uhrzeiten entnehmen Sie
  bitte dem Überblick.<br>&nbsp\;</p><h3><strong>Wozu kann ich mich berate
 n lassen?&nbsp\;</strong></h3><p><strong>Allgemeine Beratung zu Arbeit und
  Beruf</strong><br>10.06. von 10 bis 14 Uhr<br><br>Das können Sie fragen:
 <br>Wie finde ich einen Arbeitsplatz?<br>Wie bewerbe ich mich?<br>Wie bere
 ite ich mich auf ein Jobinterview vor?<br>Wie kann ich meine Qualifikation
 en beurteilen?<br>Welche Möglichkeiten gibt es für Weiterbildung\, Orien
 tierung\, Schule\, Ausbildung und Sprachkurse?</p><p>Es beraten im Wechsel
 :<br>Agentur für Arbeit Frankfurt am Main<br>beramí e.V. \, Projekt ComI
 n Women<br>Beratungszentrum der FRAP Agentur gGmbH<br>Caritasverband Frank
 furt e.V. (Projekt Begin)<br>GFFB gGmbH – Bildungs- und Beratungsunterne
 hmen<br>Jobs4refugees gGmbH<br>KUBI Gesellschaft für Kultur und Bildung g
 GmbH<br>VbFF – Verein zur beruflichen Förderung von Frauen e.V.<br>Volk
 shochschule Frankfurt – Bildungsberatung Hessencampus<br>Walter-Kolb-Sti
 ftung e.V.</p><p><strong>Beratung zu Arbeitsrecht und Sozialrecht</strong>
 <br>Haben Sie Fragen zum Arbeitsvertrag? Wurden Ihnen gekündigt oder woll
 en Sie eine Kündigung prüfen lassen? Haben Sie Probleme oder Streit mit 
 Ihrem Arbeitgeber?<br>10.06. von 10 bis 12 Uhr<br>Es berät Sie: Faire Int
 egration Hessen</p><p>&nbsp\;</p><p><strong>Wie läuft die Beratung ab?</s
 trong><br>Persönlich\, vertrauensvoll\, in entspannter Atmosphäre. Die B
 erater:innen hören Ihnen zu und möchten Ihre Situation gut verstehen.</p
 ><p><strong>Wo ist die Beratung?</strong><br>Im Frankfurt Welcome &amp\; I
 nformation Center an der Galluswarte. Die Adresse ist Mainzer Landstraße 
 293\, 60326 Frankfurt am Main. <a href="https://www.amka.de/wegbeschreibun
 g" target="_blank" title="Externer Link zu Website (neuer Tab)"><strong>Hi
 er geht's zur Wegbeschreibung</strong></a>.</p><p><strong>Wie komme ich zu
 r Galluswarte?</strong></p><ul><li>Mit der S-Bahn S3\, S4\, S5\, S6</li><l
 i>Mit dem Bus 52</li><li>Mit den Straßenbahnen 11\, 14\, 21</li></ul><p><
 strong>Wen kann ich kontaktieren\, wenn ich Fragen habe?</strong><br>Komme
 n Sie vorbei\, schreiben Sie uns eine E-Mail oder rufen Sie uns an.<br>Amt
  für multikulturelle Angelegenheiten (AmkA) im&nbsp\;<br>Frankfurt Welcom
 e &amp\; Information Center<br>E-Mail: <a href="mailto: amka.info@stadt-fr
 ankfurt.de">amka.info@stadt-frankfurt.de</a><br>Telefon:&nbsp\;(069) 212-4
 1515</p><p><strong>Zur Übersicht </strong><a href="https://amka.de/beratu
 ng-vor-ort" target="_blank" title="Externer Link zu Website (neuer Tab)"><
 strong>aller "Beratung vor Ort"-Angebote</strong></a></p>
DTSTART;VALUE=DATE:20260610
DTEND;VALUE=DATE:20260611
END:VEVENT
END:VCALENDAR
