BEGIN:VCALENDAR
PRODID:-//eluceo/ical//2.0/EN
VERSION:2.0
CALSCALE:GREGORIAN
BEGIN:VEVENT
UID:5d351312a5fec42dc8aa0b82b3a0d24f
DTSTAMP:20260425T125437Z
SUMMARY:Beratung vor Ort: Zu Arbeit und Beruf
DESCRIPTION:<p><strong>Kommen Sie zu uns ins&nbsp\;</strong><a href="https:
 //www.frankfurt-welcome-information-center.de/" target="_blank" title="Ext
 erner Link zu Website (neuer Tab)"><strong>Frankfurt Welcome &amp\; Inform
 ation Center</strong></a><strong>! Hier beraten Sie Fachleute kostenlos zu
  vielen Fragen rund um Arbeit und Beruf\, Selbständigkeit oder Anerkennun
 g von Abschlüssen – auf Deutsch\, Englisch und weiteren Sprachen.</stro
 ng></p><p>Die Beratungen finden&nbsp\;immer mittwochs statt (außer in den
  hessichen Schulferien). Die Themen und jeweiligen Uhrzeiten entnehmen Sie
  bitte dem Überblick.&nbsp\;<br>&nbsp\;</p><h3><strong>Wozu kann ich mich
  beraten lassen?&nbsp\;</strong></h3><p><strong>Allgemeine Beratung zu Arb
 eit und Beruf</strong><br>17.06. von 10 bis 13 Uhr<br><br>Das können Sie 
 fragen:<br>Wie finde ich einen Arbeitsplatz?<br>Wie bewerbe ich mich?<br>W
 ie bereite ich mich auf ein Jobinterview vor?<br>Wie kann ich meine Qualif
 ikationen beurteilen?<br>Welche Möglichkeiten gibt es für Weiterbildung\
 , Orientierung\, Schule\, Ausbildung und Sprachkurse?</p><p>Es beraten im 
 Wechsel:<br>Agentur für Arbeit Frankfurt am Main<br>beramí e.V. \, Proje
 kt ComIn Women<br>Beratungszentrum der FRAP Agentur gGmbH<br>Caritasverban
 d Frankfurt e.V. (Projekt Begin)<br>GFFB gGmbH – Bildungs- und Beratungs
 unternehmen<br>Jobs4refugees gGmbH<br>KUBI Gesellschaft für Kultur und Bi
 ldung gGmbH<br>VbFF – Verein zur beruflichen Förderung von Frauen e.V.<
 br>Volkshochschule Frankfurt – Bildungsberatung Hessencampus<br>Walter-K
 olb-Stiftung e.V.</p><p><strong>Anerkennung von Abschlüssen in Deutschlan
 d</strong><br>Möchten Sie Ihr Diplom oder Ihre Qualifikation anerkennen l
 assen? Haben Sie Fragen zum Anerkennungsprozess?<br>17.06. von 10 bis 12 U
 hr<br>Es berät Sie: berami e.V.</p><p><strong>Beratung zu Selbständigkei
 t</strong><br>Wollen Sie sich selbständig machen? Haben Sie Fragen zu Anm
 eldung\, Steuern oder Finanzierung?<br>17.06. von 10 bis 13 Uhr<br>Es ber
 ät Sie: Kompass Frankfurt am Main</p><p><strong>Wie läuft die Beratung a
 b?</strong><br>Persönlich\, vertrauensvoll\, in entspannter Atmosphäre. 
 Die Berater:innen hören Ihnen zu und möchten Ihre Situation gut verstehe
 n.</p><p><strong>Wo ist die Beratung?</strong><br>Im Frankfurt Welcome &am
 p\; Information Center an der Galluswarte. Die Adresse ist Mainzer Landstr
 aße 293\, 60326 Frankfurt am Main. <a href="https://www.amka.de/wegbeschr
 eibung" target="_blank" title="Externer Link zu Website (neuer Tab)"><stro
 ng>Hier geht's zur Wegbeschreibung</strong></a>.</p><p><strong>Wie komme i
 ch zur Galluswarte?</strong></p><ul><li>Mit der S-Bahn S3\, S4\, S5\, S6</
 li><li>Mit dem Bus 52</li><li>Mit den Straßenbahnen 11\, 14\, 21</li></ul
 ><p><strong>Wen kann ich kontaktieren\, wenn ich Fragen habe?</strong><br>
 Kommen Sie vorbei\, schreiben Sie uns eine E-Mail oder rufen Sie uns an.<b
 r>Amt für multikulturelle Angelegenheiten (AmkA) im&nbsp\;<br>Frankfurt W
 elcome &amp\; Information Center<br>E-Mail: <a href="mailto: amka.info@sta
 dt-frankfurt.de">amka.info@stadt-frankfurt.de</a><br>Telefon:&nbsp\;(069) 
 212-41515</p><p><strong>Zur Übersicht </strong><a href="https://amka.de/b
 eratung-vor-ort" target="_blank" title="Externer Link zu Website (neuer Ta
 b)"><strong>aller "Beratung vor Ort"-Angebote</strong></a></p>
DTSTART;VALUE=DATE:20260617
DTEND;VALUE=DATE:20260618
END:VEVENT
END:VCALENDAR
