BEGIN:VCALENDAR
PRODID:-//eluceo/ical//2.0/EN
VERSION:2.0
CALSCALE:GREGORIAN
BEGIN:VEVENT
UID:fb01a868424fb2e8dc32e472a79a89b8
DTSTAMP:20260425T015158Z
SUMMARY:Beratung vor Ort: Zu praktischer Hilfe für Familien im Gallus +++ 
 Diese Beratung entfällt. +++
DESCRIPTION:<h3><strong>+++ Diese Beratung entfällt. +++</strong></h3><p><
 strong>Kommen Sie zu uns ins&nbsp\;</strong><a href="https://www.frankfurt
 -welcome-information-center.de/" target="_blank"><strong>Frankfurt Welcome
  &amp\; Information Center</strong></a><strong>! Die Familienlots:innen de
 r ASB Lehrerkooperative unterstützen Familien im Gallus bei der Bewältig
 ung alltäglicher Herausforderungen – auf Deutsch\, Englisch und weitere
 n Sprachen.</strong></p><p><strong>Wobei werde ich unterstützt?</strong><
 br>Zum Beispiel beim&nbsp\;Finden einer Kinder-Betreuung\, beim Ausfüllen
  von Formularen\, bei der Suche nach Deutschkursen\, sozialen Angeboten un
 d vielen weiteren Herausforderungen.</p><p><strong>Wann sind die nächsten
  Termine?</strong><br>Die Termine im Frankfurt Welcome &amp\; Information 
 Center finden immer mittwochs und freitags von 10 bis 14 Uhr sowie donners
 tags von 10 bis 18 Uhr statt.&nbsp\;</p><p><strong>Muss ich mich vor meine
 m Besuch anmelden?</strong><br>Eine vorherige Anmeldung ist möglich per E
 -Mail an <a href="mailto: amka.info@stadt-frankfurt.de">amka.info@stadt-fr
 ankfurt.de</a>. Sie können aber auch gerne spontan vorbeikommen.</p><p><s
 trong>Wie läuft die Beratung ab?</strong><br>Persönlich\, vertrauensvoll
 \, in entspannter Atmosphäre. Die Berater:innen hören Ihnen zu und möch
 ten Ihre Situation gut verstehen.</p><p><strong>Wo ist die Beratung?</stro
 ng><br>Im Frankfurt Welcome &amp\; Information Center an der Galluswarte. 
 Die Adresse ist Mainzer Landstraße 293\, 60326 Frankfurt am Main. <a href
 ="https://www.amka.de/wegbeschreibung" target="_blank" title="Externer Lin
 k zu Website (neuer Tab)"><strong>Hier geht's zur Wegbeschreibung</strong>
 </a>.</p><p><strong>Wie komme ich zur Galluswarte?</strong></p><ul><li>Mit
  der S-Bahn S3\, S4\, S5\, S6 </li><li>Mit dem Bus 52</li><li>Mit den Stra
 ßenbahnen 11\, 14\, 21</li></ul><p><strong>Wen kann ich kontaktieren\, we
 nn ich Fragen habe?</strong><br>Kommen Sie vorbei\, schreiben Sie uns eine
  E-Mail oder rufen Sie uns an.<br>Amt für multikulturelle Angelegenheiten
  (AmkA) im&nbsp\;<br>Frankfurt Welcome &amp\; Information Center<br>E-Mail
 : <a href="mailto: amka.info@stadt-frankfurt.de">amka.info@stadt-frankfurt
 .de</a><br>Telefon: (069) 212-41515</p><p><strong>Zur Übersicht </strong>
 <a href="https://amka.de/beratung-vor-ort" target="_blank" title="Externer
  Link zu Website (neuer Tab)"><strong>aller "Beratung vor Ort"-Angebote</s
 trong></a></p>
DTSTART;VALUE=DATE:20260508
DTEND;VALUE=DATE:20260509
END:VEVENT
END:VCALENDAR
