BEGIN:VCALENDAR
PRODID:-//eluceo/ical//2.0/EN
VERSION:2.0
CALSCALE:GREGORIAN
BEGIN:VEVENT
UID:e586f1cc44aea2fff11cfd6881f148e5
DTSTAMP:20260424T232600Z
SUMMARY:Gesprächsabend "Musiken der Welt" zu krimtatarischer Musik +++ ber
 eits ausgebucht +++
DESCRIPTION:<h3>+++ Diese Veranstaltung ist bereits ausgebucht. +++</h3><p>
 <strong>Ob Volkslied\, Jazz oder Hip-Hop: Die krimtatarische Musikszene ei
 nt ein Rückbesinnen auf kulturelle Traditionen\, auf eine Geschichte der 
 Vertreibung und Wiederkehr. Künstler:innen in der Diaspora möchten den k
 rimtatarischen Klang wiederbeleben und bewahren. Musik wird so zum Mittel 
 der Vermittlung einer kulturellen Indentität durch unterschiedliche musik
 alische Ausdrucksformen. Typische Instrumente sind Saz\, Bağlama\, Qaval\
 , Santır\, Qemançe und Zurna.</strong><br><br>Die Moderatorinnen des Amt
 s für multikulturelle Angelegenheiten (AmkA) sprechen darüber mit ihren 
 Gästen: Dr. Mieste Hotopp-Riecke\, Turkologe\, Publizist und Islamwissens
 chaftler mit Schwerpunkt krimtatarische Geschichte\, Elnara Nuriieva-Letov
 a\, in Deutschland lebende krimtatarische Autorin und Aktivistin und Mayre
  Paşa\, Sopranistin und Pianistin aus Weimar.<br><br>Besucher:innen der V
 eranstaltung erhalten eine Freikarte für das Konzert "<a href="https://ww
 w.alteoper.de/de/programm/krim-tatarische-musikzeugnisse/18374" target="_b
 lank" title="Externer Link zu Website (neuer Tab)">Krim-tatarische Musiker
 zeugnisse</a>" am 8. Mai um 20 Uhr im Mozart Saal der Alten Oper Frankfurt
 .</p><p><strong>Anmeldung zum Gespräch am 29.04.2026 per E-Mail bitte an:
  </strong><a href="mailto:amka.anmeldung@stadt-frankfurt.de"><strong>amka.
 anmeldung@stadt-frankfurt.de</strong></a></p><p>Bitte beachten Sie\, dass 
 die Plätze begrenzt sind.&nbsp\;</p><p>"Musiken der Welt" wird im Herbst 
 mit neuen Themen fortgesetzt.</p>
DTSTART;VALUE=DATE:20260429
DTEND;VALUE=DATE:20260430
END:VEVENT
END:VCALENDAR
