BEGIN:VCALENDAR
PRODID:-//eluceo/ical//2.0/EN
VERSION:2.0
CALSCALE:GREGORIAN
BEGIN:VEVENT
UID:1a54047df8bc21195ba10620c90fcc67
DTSTAMP:20260425T112746Z
SUMMARY:Führung zum Jubiläum: 50 Jahre Frauen helfen Frauen e.V.
DESCRIPTION:<p><strong>Frauen helfen Frauen e.V. feiert 50 Jahre Schutz und
  Beratung für Frauen\, die von partnerschaftlicher Gewalt betroffen sind.
  Das Vereinsjubiläum "Das Private ist politisch" wird von einem abwechslu
 ngsreichen Programm in Frankfurter Kulturorten begleitet.</strong></p><p><
 strong>Dienstag\, 9. Juni - Führung</strong><br>17 Uhr: Führung durch di
 e Ausstellung 50 Jahre engagierter Gewaltschutz von Frauen helfen Frauen e
 .V. im Institut für Stadtgeschichte\, Karmeliterkloster Frankfurt.</p><p>
 <strong>Dienstag\, 16. Juni - Filmvorführung</strong><br>17:30 Uhr: Scree
 ning „Morgen ist auch noch ein Tag“ und Filmgespräch in Kooperation m
 it dem Deutschen Filmmuseum<br>mit anschließendem Filmgespräch.</p><p><s
 trong>Mittwoch\, 24. Juni - Kunstprojekt\, Poetry Slam und Party</strong><
 br>16.30 Uhr: Vorstellung der Vereinsarbeit\, Präsentation eines Kunstpro
 jektes der Bewohnerinnen des Frauenhauses &amp\; Poetry Slam in der Naxosh
 alle. Danach legt DJane Elvira Weiss auf.</p>
DTSTART;VALUE=DATE:20260609
DTEND;VALUE=DATE:20260610
END:VEVENT
END:VCALENDAR
