BEGIN:VCALENDAR
PRODID:-//eluceo/ical//2.0/EN
VERSION:2.0
CALSCALE:GREGORIAN
BEGIN:VEVENT
UID:1fc53ee610ef521fae5d15b44d7fc614
DTSTAMP:20260425T142107Z
SUMMARY:Kunst\, Poetry Slam und Party: 50 Jahre Frauen helfen Frauen e.V.
DESCRIPTION:<p>Frauen helfen Frauen e.V. feiert 50 Jahre Schutz und Beratun
 g für Frauen\, die von partnerschaftlicher Gewalt betroffen sind. Das Ver
 einsjubiläum "Das Private ist politisch" wird von einem abwechslungsreich
 en Programm in Frankfurter Kulturorten begleitet.</p><p><strong>Mittwoch\,
  24. Juni - Kunstprojekt\, Poetry Slam und Party</strong><br>16.30 Uhr: Vo
 rstellung der Vereinsarbeit\, Präsentation eines Kunstprojektes der Bewoh
 nerinnen des Frauenhauses &amp\; Poetry Slam in der Naxoshalle. Danach leg
 t DJane Elvira Weiss auf.</p>
DTSTART;VALUE=DATE:20260624
DTEND;VALUE=DATE:20260625
END:VEVENT
END:VCALENDAR
