BEGIN:VCALENDAR
PRODID:-//eluceo/ical//2.0/EN
VERSION:2.0
CALSCALE:GREGORIAN
BEGIN:VEVENT
UID:f172503dc350bf4f673d016b4ecc87a4
DTSTAMP:20260424T232559Z
SUMMARY:Picknick am Tag der lesbischen Sichtbarkeit
DESCRIPTION:<p><strong>Wie in den vergangenen Jahren veranstaltet die Lesbe
 n Informations- und Beratungsstelle e.V. LIBS e.V. ein Picknick zum Tag de
 r lesbischen Sichtbarkeit. Das Picknick findet statt am 26. April von 14 b
 is 17 Uhr in der Eschenheimer Anlage zwischen Café Fein und Spielplatz.</
 strong></p><p>Gerade in Zeiten zunehmender Queerfeindlichkeit\, eines spü
 rbaren Rechtsrucks und gekürzter Mittel für Community-Strukturen soll da
 s Zusammenkommen dazu beitragen\, sich gegenseitig zu stärken. Deshalb si
 nd alle eingeladen\, zusammen mit dem LIBS-Team auf der Wiese zu sitzen un
 d miteinander ins Gespräch zu kommen.</p><p>Getränke und Snacks\, Pickni
 ckdecke oder Campingstühle und wenn gewünscht Fahnen und Schilder bringe
 n die Teilnehmenden bitte selbst mit. Bierbänke und ‑Tische\, Musik und
  Spiele werden vom Organisations-Team bereitgestellt.</p>
DTSTART;VALUE=DATE:20260426
DTEND;VALUE=DATE:20260427
END:VEVENT
END:VCALENDAR
