BEGIN:VCALENDAR
PRODID:-//eluceo/ical//2.0/EN
VERSION:2.0
CALSCALE:GREGORIAN
BEGIN:VEVENT
UID:c280451c8451dc4214317fb60a056654
DTSTAMP:20260424T220530Z
SUMMARY:LESBISCHES FILMHÄPPCHEN
DESCRIPTION:<p>Seit den 1970er Jahren zieht es Lesben aus aller Welt auf di
 e Insel Lesbos\, zum Geburtsort der antiken griechischen Dichterin Sappho.
  In dem Küstendorf Eressos entstand in den folgenden Jahrzehnten eine akt
 ive lesbische Gemeinschaft\, in der Frauen endlich offen und frei leben un
 d lieben konnten. Auch wenn sich die meisten Einheimischen über die Jahre
  mit den Frauen solidarisierten\, gab es auch immer wieder Konflikte mit k
 onservativen Dorfbewohner:innen\, die sich von den Lesben bedroht fühlten
 .<br>Die Filmemacherin Tzeli Hadjidimitriou\, die selbst lesbisch und auf 
 Lesbos aufgewachsen ist\, hat die Entwicklungen miterlebt. In ihrem Dokume
 ntarfilm „Lesvia“ erzählt sie von 40 Jahren Gemeinschaft\, Liebe und 
 Konflikten – und davon\, was es bedeutet\, sich endlich akzeptiert zu f
 ühlen und eine zweite Heimat fernab der Heimat zu finden.<br>Ihr Dokument
 arfilm ist reich an noch nie gesehenem Archivmaterial und persönlichen Ze
 ugnissen\, die die Regisseurin mit Aufnahmen von heute und Auszügen aus i
 hrem Tagebuch kombiniert. Die Geschichte der lesbischen Gemeinschaft von E
 ressos ist lesbische Kulturgeschichte\, die der Film rekonstruiert\, mitsc
 hreibt und weiterträgt. Dafür wurde „Lesvia“ weltweit auf Festivals 
 gefeiert und vielfach ausgezeichnet.<br>Jetzt ist der Film über den lesbi
 schen Sehnsuchtsort auch im EVA zu sehen!<br><br>Kosten: 8 €\, erm. 5 
 €<br>Leitung: Anne Daur-Lyrhammer\, Anastasia Gettikh<br>Anmeldung: Bis 
 donnerstags vorher unter 069 / 92 07 08-0 oder online.</p>
DTSTART;VALUE=DATE:20260424
DTEND;VALUE=DATE:20260425
END:VEVENT
END:VCALENDAR
