BEGIN:VCALENDAR
PRODID:-//eluceo/ical//2.0/EN
VERSION:2.0
CALSCALE:GREGORIAN
BEGIN:VEVENT
UID:fcb4de6b671ff7c87eff7f1102af929d
DTSTAMP:20260425T030844Z
SUMMARY:SelbständICH - Meine Stimme als Fempreneur: "Strategisches Netzwer
 ken – Gezielt verbinden mit mehr Wirkung!"
DESCRIPTION:<p><strong>Netzwerke sind in allen Phasen der Selbständigkeit 
 ein entscheidender Zugang zu Informationen\, Ressourcen\, Sichtbarkeit und
  somit Wachstum. Darüber hinaus können Netzwerke ein Mittel zur aktiven 
 Gestaltung gemeinsamer Einflussnahme sein und Raum für Solidarität geben
 \, um kollektive Stärke und eine gemeinsame Stimme zu entwickeln.</strong
 ></p><p>In unserem praxisnahen Workshop mit <a href="https://www.linkedin.
 com/in/rania-kinfe/" target="_blank"><strong>Rania Kinfe</strong></a> zeig
 en wir dir konkrete Werkzeuge\, wie du Netzwerke strategisch für deinen u
 nternehmerischen Erfolg nutzen und eigene Interessen sichtbar machen kanns
 t.</p><p><strong>Du lernst außerdem:</strong></p><ul><li>was der Untersch
 ied zwischen Kontakten\, Beziehungen und strategischen Allianzen ist</li><
 li>wie du dich bewusst innerhalb bestehender Strukturen positionieren kann
 st</li><li>und wie du dein eigenes Netzwerk analysieren und Schlüsselpers
 onen identifizieren kannst</li></ul><p><strong>Wann:</strong>&nbsp\;Dienst
 ag\, 12. Mai 2026 von 10:00 bis 13:00 Uhr<br><strong>Wo: </strong>Bei jump
 p – Frauenbetriebe e.V.\, Hamburger Allee 96\, 60486 Frankfurt am Main<b
 r><br><strong>Anmeldung: </strong>Bis 08.05.2026 über <a href="https://ww
 w.jumpp.de/strategisches-netzwerken" target="_blank" title="Externer Link 
 zu Website (neuer Tab)"><strong>www.jumpp.de/strategisches-netzwerken</str
 ong></a></p><p><strong>Die Teilnahme ist kostenfrei.</strong></p><p><stron
 g>+++ </strong>Auch interessant: "SelbständICH - Meine Stimme als Fempren
 eur: Lobbyarbeit – Mehr Sichtbarkeit\, mehr Einfluss!" am 19.05.2026 (<a
  href="https://www.vielfalt-bewegt-frankfurt.de/de/aktuelle-beitraege/even
 t/1736" title="Interner Link zu Detailseite">zur Übersicht</a>)<strong>++
 +</strong></p>
DTSTART;VALUE=DATE:20260512
DTEND;VALUE=DATE:20260513
END:VEVENT
END:VCALENDAR
