BEGIN:VCALENDAR
PRODID:-//eluceo/ical//2.0/EN
VERSION:2.0
CALSCALE:GREGORIAN
BEGIN:VEVENT
UID:4d665ed1825b24f72803884f3b0af0e4
DTSTAMP:20260425T003225Z
SUMMARY:"Migranten Messe" beim Festival Cumbia Migrante 2026: Noch freie St
 andplätze für Organisationen und Initiativen
DESCRIPTION:<p><em><strong>Ein Raum für Widerstand und Freude&nbsp\;</stro
 ng></em></p><p>"Cumbia wird nicht nur getanzt: Sie wird organisiert\, geda
 cht\, gelebt"\, lautet das Motto des diesjährigen Festivals. Am <em><stro
 ng>Samstag\, 2. Mai 2026</strong></em>\, von 15 Uhr bis ca. zwei Uhr nacht
 s verwandelt sich der Festsaal ASTA | Pupille in Frankfurt in einen lebend
 igen Treffpunkt\, der weit über einen klassischen Markt hinausgeht. Hier 
 begegnen sich Menschen\, die mit ihren Projekten Gesellschaft aktiv mitges
 talten – verbunden durch die Rhythmen der Cumbia und den Geist des Zusam
 menhalts.&nbsp\;</p><p>Das Organisationsteam aus Lateinamerika Rebelde\, O
 ffenes Haus der Kulturen und Rohkomm.com lädt ausdrücklich alle ein\, di
 e mit ihren Initiativen für soziale Gerechtigkeit\, kulturellen Austausch
  und gemeinschaftliche Selbstorganisation stehen.</p><p><em><strong>Was de
 n Markt besonders macht&nbsp\;</strong></em></p><p>Der Migrant*innen-Markt
  ist mehr als ein Informationsstand – er ist ein <strong>Ort der Vernetz
 ung und Ermächtigung. </strong>Teilnehmende erhalten die Möglichkeit:</p
 ><ul><li>Ihre Projekte und Dienstleistungen einem vielfältigen\, engagier
 ten Publikum vorzustellen</li><li>Sich mit lokalen und überregionalen Unt
 erstützungsnetzwerken zu verbinden</li><li>Erfahrungen über Organisation
 \, Widerstand und kulturellen Wandel auszutauschen</li><li>In festlicher A
 tmosphäre mit Aktivistinnen\, Künstlerinnen und Besucher*innen ins Gespr
 äch zu kommen.</li></ul><p><em><strong>Nur noch 27 Plätze – Jetzt bewe
 rben!</strong></em>&nbsp\;</p><p>Interessierte Initiativen sollten sich be
 eilen: Lediglich <strong>27 Stände</strong> stehen zur Verfügung. Besond
 ers gesucht werden migrantische Organisationen\, soziale Projekte\, Kultur
 initiativen und Unternehmen mit gemeinwohlorientiertem Ansatz. Die Teilnah
 me ist für gemeinnützige Initiativen <strong>kostenlos</strong> – als 
 Beitrag zum solidarischen Miteinander wird lediglich eine Speise migrantis
 chen Ursprungs für den gemeinsamen Tisch "La Comilona" erwartet. Kommerzi
 elle Anbieter können einen flexiblen Solidarbeitrag zur Deckung der Veran
 staltungskosten vereinbaren.</p><p><em><strong>Ein Festival voller Inhalte
 </strong></em>&nbsp\;</p><p>Der Markt ist eingebettet in ein reichhaltiges
  Programm: Bereits ab <strong>14:00 Uhr</strong> startet La Comilona Solid
 aria – ein exklusiver Austausch von Speisen und Wissen zwischen Ausstell
 enden und dem Produktionsteam. Um <strong>15:00 Uhr</strong> beginnt das 
 öffentliche Programm mit der Vorstellung migrantischer Organisationen aus
  Hessen und ganz Deutschland. Es folgen die Vorführung des Dokumentarfilm
 s "Yo Soy la Cumbia" <strong>(17:00 Uhr)</strong>\, ein politisches Forum 
 zu migrantischer Repräsentation <strong>(18:00 Uhr)</strong> und ab <stro
 ng>20:00 Uhr</strong> der große festliche Ausklang mit Live-Musik von Son
 ido Aguajal\, Cocua und DJs.</p><p><em><strong>So nehmen Sie teil&nbsp\;</
 strong></em></p><p><strong>Die Anmeldungen werden geschlossen\, sobald all
 e 27 Plätze vergeben sind. Interessierte sollten folgendes Formular ausf
 üllen:</strong></p><p><a href="https://docs.google.com/forms/d/e/1FAIpQLS
 f4TpYLVQAukqLgaoWA7e69plPhqKyBJ06_xId5O-QibPNONw/viewform?usp=header">Stan
 d Application Form</a></p><p><em><strong>Warum mitmachen?&nbsp\;</strong><
 /em></p><p>"Wir schaffen Räume\, in denen migrantische Perspektiven nicht
  nur gehört\, sondern gefeiert werden"\, so das Organisationsteam. "Jede 
 Initiative\, die sich bewirbt\, stärkt dieses kollektive Projekt der Sich
 tbarkeit und des Wandels." Teilnehmende profitieren von:</p><ul><li>Sichtb
 arkeit vor einem diversen\, engagierten Publikum</li><li>Neuen Allianzen m
 it anderen migrantischen und lokalen Initiativen</li><li>Teilhabe an einer
  Bewegung\, die Cumbia als Symbol der Begegnung und des Widerstands feiert
 </li><li>Mitgestaltung autonomer\, demokratischer Räume für die migranti
 sche Community</li></ul><p><strong>Der Eintritt zum Festival ist gegen fre
 iwillige Spende möglich</strong> (kostenlos für Studierende und Frankfur
 t-Pass-Inhaber*innen). Speisen und Getränke werden zu solidarischen Preis
 en angeboten.</p><p><strong>Kontakt:</strong> <a href="mailto:lateinamerik
 arebelde2017@gmail.com">lateinamerikarebelde2017@gmail.com</a>&nbsp\;</p><
 p><strong>Veranstaltung:</strong> Samstag\, 2. Mai 2026 | Festsaal ASTA | 
 Pupille\, Frankfurt Lateinamerika Rebelde | Offenes Haus der Kulturen | Ro
 hkomm.com&nbsp\;<br><br>Das Festival Cumbia Migrante wird gefördert vom A
 mt für multikulturelle Angelegenheiten der Stadt Frankfurt am Main.&nbsp\
 ;</p><p><em><strong>Gemeinsam für ein Festival der Begegnung\, des Widers
 tands und der Freude!</strong></em></p>
DTSTART;VALUE=DATE:20260502
DTEND;VALUE=DATE:20260503
END:VEVENT
END:VCALENDAR
