BEGIN:VCALENDAR
PRODID:-//eluceo/ical//2.0/EN
VERSION:2.0
CALSCALE:GREGORIAN
BEGIN:VEVENT
UID:ab029e7bb34d944a95081b4c042d8dda
DTSTAMP:20260425T015159Z
SUMMARY:Stadtteil-Fest "Gallus aktiv"
DESCRIPTION:<p><strong>An dem Tag verwandelt sich die Gustavsburgstraße im
  Stadtteil Gallus wieder in einen lebendigen Treffpunkt für das ganze Vie
 rtel!&nbsp\;</strong></p><p>Die Gäste erwarten Kunst- &amp\; Mitmachangeb
 ote\, ein rollendes Buchcafé\, eine Meinungsbox\, ein mobiler Webrahmen u
 nd vieles mehr.&nbsp\;<br><br>Alle Infos entnehmen Sied bitte dem Flyer zu
 m Download.<br><br>&nbsp\;</p>
DTSTART;VALUE=DATE:20260508
DTEND;VALUE=DATE:20260509
END:VEVENT
END:VCALENDAR
