BEGIN:VCALENDAR
PRODID:-//eluceo/ical//2.0/EN
VERSION:2.0
CALSCALE:GREGORIAN
BEGIN:VEVENT
UID:e17b3deeeeb392e05ee8ec24158cb4a7
DTSTAMP:20260425T165703Z
SUMMARY:Offener Babytreff für Regenbogenfamilien
DESCRIPTION:<p>Beim Babytreff sind alle queeren Eltern und Bezugspersonen m
 it Kindern zwischen 0 und 12 Monaten willkommen. Hier könnt ihr euch in e
 ntspannter Atmosphäre über aktuell anstehende Themen austauschen\, neue 
 Kontakte mit anderen queeren Familien knüpfen und eure Kinder auf Krabbel
 matten beim Spielen beobachten.&nbsp\;</p><p>Es gibt Kaffee\, Wasser und K
 ekse und eine Küche\, in der ihr Babynahrung zubereiten könnt. Wir sind 
 ab 10 Uhr für euch da\, aber selbstverständlich könnt ihr jederzeit daz
 u stoßen. Wir freuen uns auf euch – kommt vorbei und genießt die gemei
 nsame Zeit!</p>
DTSTART;VALUE=DATE:20260710
DTEND;VALUE=DATE:20260711
END:VEVENT
END:VCALENDAR
