BEGIN:VCALENDAR
PRODID:-//eluceo/ical//2.0/EN
VERSION:2.0
CALSCALE:GREGORIAN
BEGIN:VEVENT
UID:76d434ec9dabed5124886da43fbcf282
DTSTAMP:20260425T015215Z
SUMMARY:Unternehmerinnenforum RheinMain – Fragen kostet nichts!
DESCRIPTION:<p>Vor\, während und auch nach der Gründung eines Unternehmen
 s ist guter Rat entscheidend. Nutzen Sie die Gelegenheit\, sich bei unsere
 r Info-Session „Fragen kostet nichts“ einen Überblick zu folgenden Th
 emen zu schaffen und wertvolle Tipps zu erhalten:</p><p>- Gründung &amp\;
  Startphase mit jumpp-Beraterin Ramona Lange&nbsp\;<br>- Finanzierung &amp
 \; Förderung mit jumpp-Beraterin Anna Schulte-Kärcher<br>- Marketing &am
 p\; Öffentlichkeitsarbeit mit jumpp-Presseleitung Schirin Khalik-Hilper</
 p><p>An Thementischen können Sie in kleiner Runde Ihre Fragen stellen und
  auch mit anderen Gründer:innen und Unternehmer:innen in Kontakt kommen.<
 /p><p>Zielgruppe: Gründungsinteressierte\, Gründer:innen und Unternehmer
 :innen<br>Wann: Mittwoch\, 06.06.2026 &nbsp\;von 15:00 bis 17:00 Uhr<br>Wo
 : Vor Ort bei jumpp - Frauenbetriebe e.V.\, Hamburger Allee 96\, 60486 Fra
 nkfurt am Main<br>Informationen und kostenfreie Anmeldung unter https://ww
 w.jumpp.de/fragen-kostet-nichts</p>
DTSTART;VALUE=DATE:20260506
DTEND;VALUE=DATE:20260507
END:VEVENT
END:VCALENDAR
