BEGIN:VCALENDAR
PRODID:-//eluceo/ical//2.0/EN
VERSION:2.0
CALSCALE:GREGORIAN
BEGIN:VEVENT
UID:c4e409977f8ca721d1dc06345563e73c
DTSTAMP:20260425T031103Z
SUMMARY:Community Music Jour Fixe
DESCRIPTION:<p><strong>Der Community MUSIC Jour Fixe richtet sich an Musike
 r:innen\, Pädagog:innen\, Künstler:innen und interessierte Hobby-Musiker
 :innen\, die sich mit dem Ansatz der Community Music auseinandersetzten m
 öchten - unabhängig von bestehenden Vorkenntnissen.&nbsp\;</strong></p><
 p>Im Mittelpunkt stehen das gemeinsame Musizieren\, kreativer Austausch un
 d das Ausprobieren neuer Ideen. Die Impulse aus der Community Music sind d
 abei vielfältig einsetzbar und können sowohl das eigene künstlerische S
 chaffen als auch Unterricht und pädagogische Praxis bereichern.&nbsp\;<br
 ><br>Der Auftakttermin wird von Fred P. Lohr\, Community Musician aus dem 
 Gutleutviertel\, begleitet. Perspektivisch sind auch Gastbeiträge vorgese
 hen\, bei denen Teilnehmende selbst die Gestaltung des Abends übernehmen 
 können. Geplant ist\, dass sich die Gruppe künftig jeden zweiten Montag 
 im Monat trifft. Die Veranstaltung ist kostenfrei.</p><p><strong>Anmeldung
  &amp\; Kontakt: </strong><a href="mailto:info@freie-musikschule-gutleut.d
 e">info@freie-musikschule-gutleut.de</a></p><p>Gefördert vom Amt für mul
 tikulturelle Angelegenheiten der Stadt Frankfurt am Main.</p>
DTSTART;VALUE=DATE:20260511
DTEND;VALUE=DATE:20260512
END:VEVENT
END:VCALENDAR
