BEGIN:VCALENDAR
PRODID:-//eluceo/ical//2.0/EN
VERSION:2.0
CALSCALE:GREGORIAN
BEGIN:VEVENT
UID:5129b31c7fc615c84cd0659a048f3baa
DTSTAMP:20260425T154337Z
SUMMARY:"LSBT*I-Personen im Alter": Fortbildung für Beschäftigte in der S
 enior:innenarbeit und Pflege
DESCRIPTION:<p><strong>In dieser Fortbildung der Hessische Landesfachstelle
  LSBT* im Alter werden Wissen\, Austausch und Sensibilisierung über lesbi
 sche\, schwule\, bisexuelle\, trans* und intergeschlechtlich geborene Pers
 onen (LSBT*I) im Alter vermittelt. Ziel ist es\, Einblicke in die Lebenswe
 lten und biografischen\, gesellschaftlichen und historischen Hintergründe
  von älteren und alten LSBT*I-Personen zu erhalten.&nbsp\;</strong></p><p
 >Darüber hinaus wird für spezifische Situationen und mögliche Erfahrung
 en von LSBT*I-Personen hinsichtlich Diskriminierung und Resilienz sensibil
 isiert.</p><p>Die Fortbildung richtet sich an Beschäftigte in der Senior:
 innenarbeit und Pflege\, die sich neu mit dem Thema LSBT*I befassen möcht
 en.</p><p><strong>Alle Infos zu den Inhalten\, Referent:innen und zur Anme
 ldung entnehmen Sie bitte dem Flyer zum Download auf dieser Seite.&nbsp\;<
 /strong></p>
DTSTART;VALUE=DATE:20260625
DTEND;VALUE=DATE:20260626
END:VEVENT
END:VCALENDAR
