BEGIN:VCALENDAR
PRODID:-//eluceo/ical//2.0/EN
VERSION:2.0
CALSCALE:GREGORIAN
BEGIN:VEVENT
UID:dee273444881431caa9cb9ca9e177679
DTSTAMP:20260425T154338Z
SUMMARY:Veranstaltung im Stadthaus zum Tag gegen antimuslimischen Rassismus
DESCRIPTION:<p><strong>Anlässlich des Tags gegen antimuslimischen Rassismu
 s am 1. Juli laden das Amt für multikulturelle Angelegenheiten Frankfurt 
 und die Volkshochschule Frankfurt am Main erneut zu einer Veranstaltung in
 s Stadthaus ein. Der 1. Juli erinnert bundesweit an Marwa El-Sherbini\, di
 e 2009 in Dresden aus antimuslimischem Hass heraus ermordet wurde.&nbsp\;<
 /strong></p><p>Ihr Tod steht stellvertretend für die Erfahrung vieler Mus
 lim:innen\, die täglich mit Diskriminierung\, Ausgrenzung und Gewalt konf
 rontiert sind. Der Gedenktag ruft dazu auf\, antimuslimischen Rassismus si
 chtbar zu machen und gemeinsam für eine offene und vielfältige Gesellsch
 aft einzutreten.&nbsp\;</p><p>Im Mittelpunkt des Abends steht die Filmvorf
 ührung "Es brennt"\, an die sich eine Podiumsdiskussion anschließt. Als 
 Podiumsgast hat Erol Afsin bereits zugesagt\; weitere Gesprächspartner:in
 nen sind angefragt. Die Diskussion vertieft die im Film aufgeworfenen Frag
 en\, nimmt aktuelle gesellschaftliche Entwicklungen in den Blick und lädt
  das Publikum zur Reflexion und zum Austausch ein.</p><p>Verfügbare Plät
 ze bitte <a href="https://vhs.frankfurt.de/de/portal#/search/detail/182235
 " target="_blank" title="Externer Link zu Website (neuer Tab)">hier einseh
 en</a>.</p><p>Eine Anmeldung ist nicht erforderlich. Der Eintritt ist frei
 .</p>
DTSTART;VALUE=DATE:20260624
DTEND;VALUE=DATE:20260625
END:VEVENT
END:VCALENDAR
