BEGIN:VCALENDAR
PRODID:-//eluceo/ical//2.0/EN
VERSION:2.0
CALSCALE:GREGORIAN
BEGIN:VEVENT
UID:d8b4d100cc03fc234841049e849cab2a
DTSTAMP:20260425T154337Z
SUMMARY:Zweitägiges kostenloses Training zur psychosozialen Unterstützung
  geflüchteter Kinder und Familien
DESCRIPTION:<p><strong>Viele der Kinder\, die nach Deutschland flüchten\, 
 sind psychisch stark belastet. Sie leiden etwa unter Albträumen\, können
  sich schlecht konzentrieren oder haben Kopf- und Bauchschmerzen. Auch Elt
 ern und andere Bezugspersonen haben oft Schwierigkeiten\, das Erlebte zu v
 erarbeiten und in der neuen Lebenssituation anzukommen.</strong></p><p>Kin
 der können sehr resilient sein. Dazu ist es wichtig\, dass sie sich siche
 r fühlen und idealerweise psychosozial unterstützt werden. Fachkräfte u
 nd Ehrenamtliche sind häufig erste Kontaktpersonen und können in dieser 
 Situation einen wichtigen Beitrag zur Entlastung und zur Stabilisierung le
 isten.</p><p>Save the Children Deutschland e.V. möchte Fachkräfte und Eh
 renamtliche in ihrer Rolle stärken und ihnen Kompetenzen im Umgang mit ps
 ychisch belasteten und traumatisierten Kindern vermitteln. Teilnehmende so
 llen auch in der Selbstfürsorge geschult werden\, um möglicher Überlast
 ung vorzubeugen. Dafür hat Save the Children Deutschland e.V. das zweitä
 gige kostenlose Training für Einzelpersonen zur psychosozialen Unterstüt
 zung von geflüchteten Kindern und Familien entwickelt.</p><p><strong>Das 
 Training findet satt in Frankfurt am Main am Donnerstag und Freitag\, 25. 
 und 26. Juni 2026&nbsp\;jeweils von 9 bis 17 Uhr. Die Räumlichkeiten für
  die Termine werden nach Anmeldung bekannt gegeben</strong></p><p>Sollte e
 ine Teilnahme vor Ort nicht möglich sein\, bietet der Verein auch online 
 Seminare an. Interessierte können sich aktuell für folgende Termine anme
 lden:</p><ul><li>28. und 29. Mai 2026</li><li>07. und 08. Juli 2026</li></
 ul><p><strong>Hier geht's zur </strong><a href="https://www.savethechildre
 n.de/informieren/einsatzorte/deutschland/migration-und-flucht/psychosozial
 e-unterstuetzung-gefluechteter-kinder-und-familien/" target="_blank" title
 ="Externer Link zu Website (neuer Tab)"><strong>Anmeldung zu den Vor-Ort- 
 und Online-Trainings</strong></a><strong>.</strong></p><p>Weitere Infos im
  Flyer zum Download auf dieser Seite.&nbsp\;</p><p>Wer Interesse an einer 
 Inhouse-Schulung für Personengruppen von 10 bis 15 Personen hat\, meldet 
 sich bitte bei dem Verein per E-Mail: <a href="mailto:psu.flucht@savethech
 ildren.de">psu.flucht@savethechildren.de</a></p>
DTSTART;VALUE=DATE:20260625
DTEND;VALUE=DATE:20260627
END:VEVENT
END:VCALENDAR
